BEGIN:VCALENDAR
VERSION:2.0
PRODID:-//SEMNO High Masters Shooting Team - ECPv6.15.20//NONSGML v1.0//EN
CALSCALE:GREGORIAN
METHOD:PUBLISH
X-ORIGINAL-URL:https://www.semno.org
X-WR-CALDESC:Events for SEMNO High Masters Shooting Team
REFRESH-INTERVAL;VALUE=DURATION:PT1H
X-Robots-Tag:noindex
X-PUBLISHED-TTL:PT1H
BEGIN:VTIMEZONE
TZID:America/Detroit
BEGIN:DAYLIGHT
TZOFFSETFROM:-0500
TZOFFSETTO:-0400
TZNAME:EDT
DTSTART:20250309T070000
END:DAYLIGHT
BEGIN:STANDARD
TZOFFSETFROM:-0400
TZOFFSETTO:-0500
TZNAME:EST
DTSTART:20251102T060000
END:STANDARD
BEGIN:DAYLIGHT
TZOFFSETFROM:-0500
TZOFFSETTO:-0400
TZNAME:EDT
DTSTART:20260308T070000
END:DAYLIGHT
BEGIN:STANDARD
TZOFFSETFROM:-0400
TZOFFSETTO:-0500
TZNAME:EST
DTSTART:20261101T060000
END:STANDARD
BEGIN:DAYLIGHT
TZOFFSETFROM:-0500
TZOFFSETTO:-0400
TZNAME:EDT
DTSTART:20270314T070000
END:DAYLIGHT
BEGIN:STANDARD
TZOFFSETFROM:-0400
TZOFFSETTO:-0500
TZNAME:EST
DTSTART:20271107T060000
END:STANDARD
END:VTIMEZONE
BEGIN:VEVENT
DTSTART;TZID=America/Detroit:20260103T090000
DTEND;TZID=America/Detroit:20260103T130000
DTSTAMP:20260421T171025
CREATED:20251101T175325Z
LAST-MODIFIED:20251101T175325Z
UID:4845-1767430800-1767445200@www.semno.org
SUMMARY:2025-2026 Snow Country English Match Series - Muskegon
DESCRIPTION:2025-2026 Snow Country English Match Series
URL:https://www.semno.org/event/2025-2026-snow-country-english-match-series-muskegon-3/
LOCATION:Muskegon Pistol and Rifle Club\, 5345 S. Quarterline Road\, Muskegon\, MI\, 49444\, United States
CATEGORIES:Indoor Smallbore Prone
ATTACH;FMTTYPE=image/jpeg:https://www.semno.org/wp-content/uploads/2025/04/Eric-Moe-scaled.jpeg
ORGANIZER;CN="Steve Fenske":MAILTO:steve.fenske@gmail.com
END:VEVENT
BEGIN:VEVENT
DTSTART;TZID=America/Detroit:20260103T100000
DTEND;TZID=America/Detroit:20260103T120000
DTSTAMP:20260421T171025
CREATED:20251127T002115Z
LAST-MODIFIED:20251127T002115Z
UID:4893-1767434400-1767441600@www.semno.org
SUMMARY:2025 New Years Rifle Match
DESCRIPTION:2025 New Year’s Eve Rifle Match
URL:https://www.semno.org/event/2025-new-years-rifle-match/
LOCATION:Midland County Sportsman’s Club\, 8825 Sturgeon Road\, Midland\, MI\, 48640\, United States
CATEGORIES:Mid-Range Prone
ATTACH;FMTTYPE=image/jpeg:https://www.semno.org/wp-content/uploads/2021/01/NYERM-Winners.jpeg
ORGANIZER;CN="Ray Gross":MAILTO:iron308@gmail.com
END:VEVENT
BEGIN:VEVENT
DTSTART;TZID=America/Detroit:20260108T173000
DTEND;TZID=America/Detroit:20260108T200000
DTSTAMP:20260421T171025
CREATED:20251101T175541Z
LAST-MODIFIED:20251101T175541Z
UID:4847-1767893400-1767902400@www.semno.org
SUMMARY:2025-2026 Snow Country English Match Series - Grand Rapids
DESCRIPTION:2025-2026 Snow Country English Match Series
URL:https://www.semno.org/event/2025-2026-snow-country-english-match-series-grand-rapids-4/
LOCATION:Grand Rapids Rifle and Pistol Club\, 1331 Nagel AVE SW\, Wyoming\, MI\, 49509\, United States
CATEGORIES:Indoor Smallbore Prone
ATTACH;FMTTYPE=image/jpeg:https://www.semno.org/wp-content/uploads/2024/04/Cam-Zwart-scaled.jpg
ORGANIZER;CN="Cameron Zwart":MAILTO:zwartcam@gvsu.edu
END:VEVENT
BEGIN:VEVENT
DTSTART;TZID=America/Detroit:20260110T080000
DTEND;TZID=America/Detroit:20260110T130000
DTSTAMP:20260421T171025
CREATED:20251101T175727Z
LAST-MODIFIED:20251101T175727Z
UID:4849-1768032000-1768050000@www.semno.org
SUMMARY:2025-2026 Snow Country English Match Series - Monroe
DESCRIPTION:2025-2026 Snow Country English Match Series
URL:https://www.semno.org/event/2025-2026-snow-country-english-match-series-monroe-4/
LOCATION:Monroe Rifle and Pistol Club\, 1220 Yensch Road\, Dundee\, MI\, 48131\, United States
CATEGORIES:Indoor Smallbore Prone
ATTACH;FMTTYPE=image/jpeg:https://www.semno.org/wp-content/uploads/2025/04/Steve-Jones.jpeg
ORGANIZER;CN="Jamie Root":MAILTO:jaroot@jarootfarms.com
END:VEVENT
BEGIN:VEVENT
DTSTART;TZID=America/Detroit:20260110T080000
DTEND;TZID=America/Detroit:20260110T130000
DTSTAMP:20260421T171025
CREATED:20251101T175919Z
LAST-MODIFIED:20251101T175919Z
UID:4851-1768032000-1768050000@www.semno.org
SUMMARY:2025-2026 Snow Country English Match Series - Howell
DESCRIPTION:2025-2026 Snow Country English Match Series
URL:https://www.semno.org/event/2025-2026-snow-country-english-match-series-howell-4/
LOCATION:Howell Gun Club\, 3210 Jewel Road\, Howell\, MI\, United States
CATEGORIES:Indoor Smallbore Prone
ATTACH;FMTTYPE=image/jpeg:https://www.semno.org/wp-content/uploads/2025/04/Dave-Strycharz.jpeg
ORGANIZER;CN="Ed Gostomski":MAILTO:gostomski@chartermi.net
END:VEVENT
BEGIN:VEVENT
DTSTART;TZID=America/Detroit:20260117T090000
DTEND;TZID=America/Detroit:20260117T130000
DTSTAMP:20260421T171025
CREATED:20251101T180223Z
LAST-MODIFIED:20251101T180223Z
UID:4853-1768640400-1768654800@www.semno.org
SUMMARY:2025-2026 Snow Country English Match Series - BWSA
DESCRIPTION:2025-2026 Snow Country English Match Series
URL:https://www.semno.org/event/2025-2026-snow-country-english-match-series-bwsa-5/
LOCATION:BWSA\, 4866 Ravenswood Road\, Kimball\, MI\, 48074\, United States
CATEGORIES:Indoor Smallbore Prone
ATTACH;FMTTYPE=image/jpeg:https://www.semno.org/wp-content/uploads/2025/04/Matt-Wieczorek.jpeg
ORGANIZER;CN="Matt Wieczorek":MAILTO:mwieczorek223@gmail.com
END:VEVENT
BEGIN:VEVENT
DTSTART;TZID=America/Detroit:20260117T090000
DTEND;TZID=America/Detroit:20260117T130000
DTSTAMP:20260421T171025
CREATED:20251101T180424Z
LAST-MODIFIED:20251101T180424Z
UID:4855-1768640400-1768654800@www.semno.org
SUMMARY:2025-2026 Snow Country English Match Series - Muskegon
DESCRIPTION:2025-2026 Snow Country English Match Series
URL:https://www.semno.org/event/2025-2026-snow-country-english-match-series-muskegon-4/
LOCATION:Muskegon Pistol and Rifle Club\, 5345 S. Quarterline Road\, Muskegon\, MI\, 49444\, United States
CATEGORIES:Indoor Smallbore Prone
ATTACH;FMTTYPE=image/jpeg:https://www.semno.org/wp-content/uploads/2025/04/Wayne-Haase.jpeg
ORGANIZER;CN="Steve Fenske":MAILTO:steve.fenske@gmail.com
END:VEVENT
BEGIN:VEVENT
DTSTART;TZID=America/Detroit:20260124T080000
DTEND;TZID=America/Detroit:20260124T130000
DTSTAMP:20260421T171025
CREATED:20251101T180606Z
LAST-MODIFIED:20251101T180606Z
UID:4857-1769241600-1769259600@www.semno.org
SUMMARY:2025-2026 Snow Country English Match Series - Monroe
DESCRIPTION:2025-2026 Snow Country English Match Series
URL:https://www.semno.org/event/2025-2026-snow-country-english-match-series-monroe-5/
LOCATION:Monroe Rifle and Pistol Club\, 1220 Yensch Road\, Dundee\, MI\, 48131\, United States
CATEGORIES:Indoor Smallbore Prone
ATTACH;FMTTYPE=image/jpeg:https://www.semno.org/wp-content/uploads/2025/04/Jamie-Root.jpeg
ORGANIZER;CN="Jamie Root":MAILTO:jaroot@jarootfarms.com
END:VEVENT
BEGIN:VEVENT
DTSTART;TZID=America/Detroit:20260124T080000
DTEND;TZID=America/Detroit:20260124T130000
DTSTAMP:20260421T171025
CREATED:20251101T180751Z
LAST-MODIFIED:20251101T180751Z
UID:4859-1769241600-1769259600@www.semno.org
SUMMARY:2025-2026 Snow Country English Match Series - Howell
DESCRIPTION:2025-2026 Snow Country English Match Series
URL:https://www.semno.org/event/2025-2026-snow-country-english-match-series-howell-5/
LOCATION:Howell Gun Club\, 3210 Jewel Road\, Howell\, MI\, United States
CATEGORIES:Indoor Smallbore Prone
ATTACH;FMTTYPE=image/jpeg:https://www.semno.org/wp-content/uploads/2024/04/Ed-Gostomski-scaled.jpg
ORGANIZER;CN="Ed Gostomski":MAILTO:gostomski@chartermi.net
END:VEVENT
END:VCALENDAR