BEGIN:VCALENDAR
VERSION:2.0
PRODID:-//SEMNO High Masters Shooting Team - ECPv6.15.20//NONSGML v1.0//EN
CALSCALE:GREGORIAN
METHOD:PUBLISH
X-ORIGINAL-URL:https://www.semno.org
X-WR-CALDESC:Events for SEMNO High Masters Shooting Team
REFRESH-INTERVAL;VALUE=DURATION:PT1H
X-Robots-Tag:noindex
X-PUBLISHED-TTL:PT1H
BEGIN:VTIMEZONE
TZID:America/Detroit
BEGIN:DAYLIGHT
TZOFFSETFROM:-0500
TZOFFSETTO:-0400
TZNAME:EDT
DTSTART:20180311T070000
END:DAYLIGHT
BEGIN:STANDARD
TZOFFSETFROM:-0400
TZOFFSETTO:-0500
TZNAME:EST
DTSTART:20181104T060000
END:STANDARD
BEGIN:DAYLIGHT
TZOFFSETFROM:-0500
TZOFFSETTO:-0400
TZNAME:EDT
DTSTART:20190310T070000
END:DAYLIGHT
BEGIN:STANDARD
TZOFFSETFROM:-0400
TZOFFSETTO:-0500
TZNAME:EST
DTSTART:20191103T060000
END:STANDARD
BEGIN:DAYLIGHT
TZOFFSETFROM:-0500
TZOFFSETTO:-0400
TZNAME:EDT
DTSTART:20200308T070000
END:DAYLIGHT
BEGIN:STANDARD
TZOFFSETFROM:-0400
TZOFFSETTO:-0500
TZNAME:EST
DTSTART:20201101T060000
END:STANDARD
BEGIN:DAYLIGHT
TZOFFSETFROM:-0500
TZOFFSETTO:-0400
TZNAME:EDT
DTSTART:20210314T070000
END:DAYLIGHT
BEGIN:STANDARD
TZOFFSETFROM:-0400
TZOFFSETTO:-0500
TZNAME:EST
DTSTART:20211107T060000
END:STANDARD
BEGIN:DAYLIGHT
TZOFFSETFROM:-0500
TZOFFSETTO:-0400
TZNAME:EDT
DTSTART:20220313T070000
END:DAYLIGHT
BEGIN:STANDARD
TZOFFSETFROM:-0400
TZOFFSETTO:-0500
TZNAME:EST
DTSTART:20221106T060000
END:STANDARD
END:VTIMEZONE
BEGIN:VEVENT
DTSTART;TZID=America/Detroit:20210904T090000
DTEND;TZID=America/Detroit:20210904T170000
DTSTAMP:20260422T005546
CREATED:20210124T160947Z
LAST-MODIFIED:20210124T160947Z
UID:3017-1630746000-1630774800@www.semno.org
SUMMARY:2021 Michigan Mid-Range Prone Championship
DESCRIPTION:Program:  2021 Michigan Mid-Range Prone Championship
URL:https://www.semno.org/event/2021-michigan-mid-range-prone-championship/
LOCATION:Midland County Sportsman’s Club\, 8825 Sturgeon Road\, Midland\, MI\, 48640\, United States
CATEGORIES:Mid-Range Prone
ATTACH;FMTTYPE=image/jpeg:https://www.semno.org/wp-content/uploads/2019/07/2019-07-Shot-down-the-line.jpg
ORGANIZER;CN="Leo Cebula":MAILTO:lcebula@comcast.net
END:VEVENT
BEGIN:VEVENT
DTSTART;TZID=America/Detroit:20210703T090000
DTEND;TZID=America/Detroit:20210703T140000
DTSTAMP:20260422T005546
CREATED:20210307T195043Z
LAST-MODIFIED:20210307T195043Z
UID:3099-1625302800-1625320800@www.semno.org
SUMMARY:2021 Suburban Mid-Range Prone League Match 3
DESCRIPTION:Program:  2021 Suburban Mid-Range Prone League
URL:https://www.semno.org/event/2021-suburban-mid-range-prone-league-match-3/
LOCATION:Midland County Sportsman’s Club\, 8825 Sturgeon Road\, Midland\, MI\, 48640\, United States
CATEGORIES:Mid-Range Prone
ATTACH;FMTTYPE=image/jpeg:https://www.semno.org/wp-content/uploads/2019/05/MCSCLineRight.jpg
ORGANIZER;CN="Leo Cebula":MAILTO:lcebula@comcast.net
END:VEVENT
BEGIN:VEVENT
DTSTART;TZID=America/Detroit:20210605T090000
DTEND;TZID=America/Detroit:20210605T140000
DTSTAMP:20260422T005546
CREATED:20210307T194908Z
LAST-MODIFIED:20210307T194908Z
UID:3097-1622883600-1622901600@www.semno.org
SUMMARY:2021 Suburban Mid-Range Prone League Match 2
DESCRIPTION:Program: 2021 Suburban Mid-Range Prone League
URL:https://www.semno.org/event/2021-suburban-mid-range-prone-league-match-2/
LOCATION:Midland County Sportsman’s Club\, 8825 Sturgeon Road\, Midland\, MI\, 48640\, United States
CATEGORIES:Mid-Range Prone
ATTACH;FMTTYPE=image/jpeg:https://www.semno.org/wp-content/uploads/2018/10/Joshmooresling.jpg
ORGANIZER;CN="Leo Cebula":MAILTO:lcebula@comcast.net
END:VEVENT
BEGIN:VEVENT
DTSTART;TZID=America/Detroit:20210501T090000
DTEND;TZID=America/Detroit:20210501T140000
DTSTAMP:20260422T005546
CREATED:20210307T194524Z
LAST-MODIFIED:20210307T194524Z
UID:3094-1619859600-1619877600@www.semno.org
SUMMARY:2021 Suburban Mid-Range Prone League Match 1
DESCRIPTION:Program:  2021 Suburban Mid-Range Prone League
URL:https://www.semno.org/event/2021-suburban-mid-range-prone-league-match-1/
LOCATION:Midland County Sportsman’s Club\, 8825 Sturgeon Road\, Midland\, MI\, 48640\, United States
CATEGORIES:Mid-Range Prone
ATTACH;FMTTYPE=image/jpeg:https://www.semno.org/wp-content/uploads/2019/05/PeterChurchFullbore.jpg
ORGANIZER;CN="Leo Cebula":MAILTO:lcebula@comcast.net
END:VEVENT
BEGIN:VEVENT
DTSTART;TZID=America/Detroit:20210424T100000
DTEND;TZID=America/Detroit:20210424T140000
DTSTAMP:20260422T005546
CREATED:20201209T214020Z
LAST-MODIFIED:20201209T214020Z
UID:2957-1619258400-1619272800@www.semno.org
SUMMARY:2021 Winter Mid-Range Prone League
DESCRIPTION:2021 Winter Mid-Range Prone League Program
URL:https://www.semno.org/event/2021-winter-mid-range-prone-league-6/
LOCATION:Midland County Sportsman’s Club\, 8825 Sturgeon Road\, Midland\, MI\, 48640\, United States
CATEGORIES:Mid-Range Prone
ATTACH;FMTTYPE=image/jpeg:https://www.semno.org/wp-content/uploads/2020/02/Tent2.jpg
END:VEVENT
BEGIN:VEVENT
DTSTART;TZID=America/Detroit:20210417T100000
DTEND;TZID=America/Detroit:20210417T140000
DTSTAMP:20260422T005546
CREATED:20201209T213849Z
LAST-MODIFIED:20201209T213849Z
UID:2955-1618653600-1618668000@www.semno.org
SUMMARY:2021 Winter Mid-Range Prone League
DESCRIPTION:2021 Winter Mid-Range Prone League Program
URL:https://www.semno.org/event/2021-winter-mid-range-prone-league-5/
LOCATION:Midland County Sportsman’s Club\, 8825 Sturgeon Road\, Midland\, MI\, 48640\, United States
CATEGORIES:Mid-Range Prone
ATTACH;FMTTYPE=image/jpeg:https://www.semno.org/wp-content/uploads/2017/12/IMG_0005.jpg
ORGANIZER;CN="Leo Cebula":MAILTO:lcebula@comcast.net
END:VEVENT
BEGIN:VEVENT
DTSTART;TZID=America/Detroit:20210403T100000
DTEND;TZID=America/Detroit:20210403T140000
DTSTAMP:20260422T005546
CREATED:20201209T213638Z
LAST-MODIFIED:20201209T213638Z
UID:2952-1617444000-1617458400@www.semno.org
SUMMARY:2021 Winter Mid-Range Prone League
DESCRIPTION:2021 Winter Mid-Range Prone League Program
URL:https://www.semno.org/event/2021-winter-mid-range-prone-league-4/
LOCATION:Midland County Sportsman’s Club\, 8825 Sturgeon Road\, Midland\, MI\, 48640\, United States
CATEGORIES:Mid-Range Prone
ATTACH;FMTTYPE=image/jpeg:https://www.semno.org/wp-content/uploads/2016/03/IMG_0299.jpg
ORGANIZER;CN="Leo Cebula":MAILTO:lcebula@comcast.net
END:VEVENT
BEGIN:VEVENT
DTSTART;TZID=America/Detroit:20210327T100000
DTEND;TZID=America/Detroit:20210327T140000
DTSTAMP:20260422T005546
CREATED:20201209T213239Z
LAST-MODIFIED:20201209T214207Z
UID:2950-1616839200-1616853600@www.semno.org
SUMMARY:2021 Winter Mid-Range Prone League
DESCRIPTION:2021 Winter Mid-Range Prone League Program
URL:https://www.semno.org/event/2021-winter-mid-range-prone-league-3/
LOCATION:Midland County Sportsman’s Club\, 8825 Sturgeon Road\, Midland\, MI\, 48640\, United States
CATEGORIES:Mid-Range Prone
ATTACH;FMTTYPE=image/jpeg:https://www.semno.org/wp-content/uploads/2017/12/IMG_0006.jpg
ORGANIZER;CN="Leo Cebula":MAILTO:lcebula@comcast.net
END:VEVENT
BEGIN:VEVENT
DTSTART;TZID=America/Detroit:20210220T100000
DTEND;TZID=America/Detroit:20210220T140000
DTSTAMP:20260422T005546
CREATED:20201209T205310Z
LAST-MODIFIED:20201209T205821Z
UID:2945-1613815200-1613829600@www.semno.org
SUMMARY:2021 Winter Mid-Range Prone League
DESCRIPTION:2021 Winter Mid-Range Prone League Program
URL:https://www.semno.org/event/2021-winter-mid-range-prone-league/
LOCATION:Midland County Sportsman’s Club\, 8825 Sturgeon Road\, Midland\, MI\, 48640\, United States
CATEGORIES:Mid-Range Prone
ATTACH;FMTTYPE=image/jpeg:https://www.semno.org/wp-content/uploads/2018/11/IMG_1854.jpg
ORGANIZER;CN="Leo Cebula":MAILTO:lcebula@comcast.net
END:VEVENT
BEGIN:VEVENT
DTSTART;TZID=America/Detroit:20201231T100000
DTEND;TZID=America/Detroit:20201231T140000
DTSTAMP:20260422T005546
CREATED:20201207T190424Z
LAST-MODIFIED:20201207T190424Z
UID:2936-1609408800-1609423200@www.semno.org
SUMMARY:2020 New Year's Eve Rifle Match
DESCRIPTION:2020 New Year’s Eve Rifle Match
URL:https://www.semno.org/event/2020-new-years-eve-rifle-match/
LOCATION:Midland County Sportsman’s Club\, 8825 Sturgeon Road\, Midland\, MI\, 48640\, United States
CATEGORIES:Mid-Range Prone
ATTACH;FMTTYPE=image/jpeg:https://www.semno.org/wp-content/uploads/2019/12/2019NYEdownrangejpg.jpg
ORGANIZER;CN="Leo Cebula":MAILTO:lcebula@comcast.net
END:VEVENT
BEGIN:VEVENT
DTSTART;TZID=America/Detroit:20201128T100000
DTEND;TZID=America/Detroit:20201128T130000
DTSTAMP:20260422T005546
CREATED:20201115T182717Z
LAST-MODIFIED:20201115T182717Z
UID:2891-1606557600-1606568400@www.semno.org
SUMMARY:2020 Annual Foul Weather Rifle Match
DESCRIPTION:2019 Annual Foul Weather
URL:https://www.semno.org/event/2020-annual-foul-weather-rifle-match/
LOCATION:Midland County Sportsman’s Club\, 8825 Sturgeon Road\, Midland\, MI\, 48640\, United States
CATEGORIES:Mid-Range Prone
ATTACH;FMTTYPE=image/jpeg:https://www.semno.org/wp-content/uploads/2020/02/Snow-out.jpg
ORGANIZER;CN="Leo Cebula":MAILTO:lcebula@comcast.net
END:VEVENT
BEGIN:VEVENT
DTSTART;TZID=America/Detroit:20201107T090000
DTEND;TZID=America/Detroit:20201107T160000
DTSTAMP:20260422T005546
CREATED:20200927T203339Z
LAST-MODIFIED:20201010T155853Z
UID:2794-1604739600-1604764800@www.semno.org
SUMMARY:Halloween BSA Charity Match
DESCRIPTION:Program: 2020 Halloween BSA Charity Match \nWe are featuring plaques to the winners of each of the categories:  F-Open\, F-TR\, Any Rifle\, Palma Rifle\, and Service Rifle.  Additionally\, Creedmoor sports will be offering door prizes that will be drawn for at the completion of the match and awards ceremony. \nDon’t miss this match!
URL:https://www.semno.org/event/halloween-bsa-charity-match-2/
LOCATION:Midland County Sportsman’s Club\, 8825 Sturgeon Road\, Midland\, MI\, 48640\, United States
CATEGORIES:Mid-Range Prone
ATTACH;FMTTYPE=image/jpeg:https://www.semno.org/wp-content/uploads/2017/10/IMG_1556.jpg
ORGANIZER;CN="Leo Cebula":MAILTO:lcebula@comcast.net
END:VEVENT
BEGIN:VEVENT
DTSTART;TZID=America/Detroit:20201003T090000
DTEND;TZID=America/Detroit:20201003T130000
DTSTAMP:20260422T005546
CREATED:20200205T150228Z
LAST-MODIFIED:20200507T230329Z
UID:2638-1601715600-1601730000@www.semno.org
SUMMARY:2020 Suburban Mid-Range Prone League - October Match
DESCRIPTION:Program: 2020 Suburban Mid-Range Prone Leauge
URL:https://www.semno.org/event/2020-suburban-mid-range-prone-league-october-match/
LOCATION:Midland County Sportsman’s Club\, 8825 Sturgeon Road\, Midland\, MI\, 48640\, United States
CATEGORIES:Mid-Range Prone
ORGANIZER;CN="Leo Cebula":MAILTO:lcebula@comcast.net
END:VEVENT
BEGIN:VEVENT
DTSTART;TZID=America/Detroit:20200919T090000
DTEND;TZID=America/Detroit:20200919T130000
DTSTAMP:20260422T005546
CREATED:20200205T150013Z
LAST-MODIFIED:20200507T230404Z
UID:2636-1600506000-1600520400@www.semno.org
SUMMARY:2020 Suburban Mid-Range Prone League - September Match
DESCRIPTION:Program: 2020 Suburban Mid-Range Prone League
URL:https://www.semno.org/event/2020-suburban-mid-range-prone-league-september-match/
LOCATION:Midland County Sportsman’s Club\, 8825 Sturgeon Road\, Midland\, MI\, 48640\, United States
CATEGORIES:Mid-Range Prone
ORGANIZER;CN="Leo Cebula":MAILTO:lcebula@comcast.net
END:VEVENT
BEGIN:VEVENT
DTSTART;TZID=America/Detroit:20200905T090000
DTEND;TZID=America/Detroit:20200905T170000
DTSTAMP:20260422T005546
CREATED:20200205T150605Z
LAST-MODIFIED:20200205T150605Z
UID:2643-1599296400-1599325200@www.semno.org
SUMMARY:2020 Michigan Mid-Range Prone Championship
DESCRIPTION:Program:  2020 Michigan Mid-Range Prone Championship
URL:https://www.semno.org/event/2020-michigan-mid-range-prone-championship/
LOCATION:Midland County Sportsman’s Club\, 8825 Sturgeon Road\, Midland\, MI\, 48640\, United States
CATEGORIES:Mid-Range Prone
ORGANIZER;CN="Leo Cebula":MAILTO:lcebula@comcast.net
END:VEVENT
BEGIN:VEVENT
DTSTART;TZID=America/Detroit:20200718T090000
DTEND;TZID=America/Detroit:20200718T130000
DTSTAMP:20260422T005546
CREATED:20200205T145842Z
LAST-MODIFIED:20200507T230229Z
UID:2634-1595062800-1595077200@www.semno.org
SUMMARY:2020 Suburban Mid-Range Prone League - July Match
DESCRIPTION:Program: 2020 Suburban Mid-Range Prone League
URL:https://www.semno.org/event/2020-suburban-mid-range-prone-league-july-match/
LOCATION:Midland County Sportsman’s Club\, 8825 Sturgeon Road\, Midland\, MI\, 48640\, United States
CATEGORIES:Mid-Range Prone
ORGANIZER;CN="Leo Cebula":MAILTO:lcebula@comcast.net
END:VEVENT
BEGIN:VEVENT
DTSTART;TZID=America/Detroit:20200613T090000
DTEND;TZID=America/Detroit:20200613T130000
DTSTAMP:20260422T005546
CREATED:20200205T145644Z
LAST-MODIFIED:20200507T230446Z
UID:2632-1592038800-1592053200@www.semno.org
SUMMARY:2020 Suburban Mid-Range Prone League - June Match
DESCRIPTION:Program: 2020 Suburban Mid-Range Prone League
URL:https://www.semno.org/event/2020-suburban-mid-range-prone-league-june-match/
LOCATION:Midland County Sportsman’s Club\, 8825 Sturgeon Road\, Midland\, MI\, 48640\, United States
CATEGORIES:Mid-Range Prone
ORGANIZER;CN="Leo Cebula":MAILTO:lcebula@comcast.net
END:VEVENT
BEGIN:VEVENT
DTSTART;TZID=America/Detroit:20200411T100000
DTEND;TZID=America/Detroit:20200411T130000
DTSTAMP:20260422T005546
CREATED:20200105T194445Z
LAST-MODIFIED:20200331T213700Z
UID:2581-1586599200-1586610000@www.semno.org
SUMMARY:Canceled 2020 Winter Mid-Range Prone League Match 6
DESCRIPTION:Program:  2020 Winter Mid-Range Prone League Program
URL:https://www.semno.org/event/2020-winter-mid-range-prone-league-match-6/
LOCATION:Midland County Sportsman’s Club\, 8825 Sturgeon Road\, Midland\, MI\, 48640\, United States
CATEGORIES:Mid-Range Prone
ORGANIZER;CN="Leo Cebula":MAILTO:lcebula@comcast.net
END:VEVENT
BEGIN:VEVENT
DTSTART;TZID=America/Detroit:20200404T100000
DTEND;TZID=America/Detroit:20200404T130000
DTSTAMP:20260422T005546
CREATED:20200105T194325Z
LAST-MODIFIED:20200331T213445Z
UID:2579-1585994400-1586005200@www.semno.org
SUMMARY:Canceled 2020 Winter Mid-Range Prone League Match 5
DESCRIPTION:Program:  2020 Winter Mid-Range Prone League Program
URL:https://www.semno.org/event/2020-winter-mid-range-prone-league-match-5/
LOCATION:Midland County Sportsman’s Club\, 8825 Sturgeon Road\, Midland\, MI\, 48640\, United States
CATEGORIES:Mid-Range Prone
ORGANIZER;CN="Leo Cebula":MAILTO:lcebula@comcast.net
END:VEVENT
BEGIN:VEVENT
DTSTART;TZID=America/Detroit:20200314T100000
DTEND;TZID=America/Detroit:20200314T130000
DTSTAMP:20260422T005546
CREATED:20200105T194050Z
LAST-MODIFIED:20200105T194050Z
UID:2575-1584180000-1584190800@www.semno.org
SUMMARY:2020 Winter Mid-Range Prone League Match 3
DESCRIPTION:Program:  2020 Winter Mid-Range Prone League Program
URL:https://www.semno.org/event/2020-winter-mid-range-prone-league-match-3/
LOCATION:Midland County Sportsman’s Club\, 8825 Sturgeon Road\, Midland\, MI\, 48640\, United States
CATEGORIES:Mid-Range Prone
ORGANIZER;CN="Leo Cebula":MAILTO:lcebula@comcast.net
END:VEVENT
BEGIN:VEVENT
DTSTART;TZID=America/Detroit:20200229T100000
DTEND;TZID=America/Detroit:20200229T130000
DTSTAMP:20260422T005546
CREATED:20200105T193613Z
LAST-MODIFIED:20200105T193613Z
UID:2571-1582970400-1582981200@www.semno.org
SUMMARY:2020 Winter Mid-Range Prone League Match 2
DESCRIPTION:Program:  2020 Winter Mid-Range Prone League Program
URL:https://www.semno.org/event/2020-winter-mid-range-prone-league-match-2/
LOCATION:Midland County Sportsman’s Club\, 8825 Sturgeon Road\, Midland\, MI\, 48640\, United States
CATEGORIES:Mid-Range Prone
ORGANIZER;CN="Leo Cebula":MAILTO:lcebula@comcast.net
END:VEVENT
BEGIN:VEVENT
DTSTART;TZID=America/Detroit:20200201T100000
DTEND;TZID=America/Detroit:20200201T130000
DTSTAMP:20260422T005546
CREATED:20200105T193827Z
LAST-MODIFIED:20200105T193827Z
UID:2573-1580551200-1580562000@www.semno.org
SUMMARY:2020 Winter Mid-Range Prone League Match 1
DESCRIPTION:Program:  2020 Winter Mid-Range Prone League Program
URL:https://www.semno.org/event/2020-winter-mid-range-prone-league-match-1-2/
LOCATION:Midland County Sportsman’s Club\, 8825 Sturgeon Road\, Midland\, MI\, 48640\, United States
CATEGORIES:Mid-Range Prone
ORGANIZER;CN="Leo Cebula":MAILTO:lcebula@comcast.net
END:VEVENT
BEGIN:VEVENT
DTSTART;TZID=America/Detroit:20191231T100000
DTEND;TZID=America/Detroit:20191231T130000
DTSTAMP:20260422T005546
CREATED:20191213T221109Z
LAST-MODIFIED:20191213T221109Z
UID:2507-1577786400-1577797200@www.semno.org
SUMMARY:2019 New Year's Eve Rifle Match
DESCRIPTION:Program:  2019 New Year’s Eve Rifle Match
URL:https://www.semno.org/event/2019-new-years-eve-rifle-match/
LOCATION:Midland County Sportsman’s Club\, 8825 Sturgeon Road\, Midland\, MI\, 48640\, United States
CATEGORIES:Mid-Range Prone
ORGANIZER;CN="Leo Cebula":MAILTO:lcebula@comcast.net
END:VEVENT
BEGIN:VEVENT
DTSTART;TZID=America/Detroit:20191130T100000
DTEND;TZID=America/Detroit:20191130T130000
DTSTAMP:20260422T005546
CREATED:20190111T004130Z
LAST-MODIFIED:20191128T195838Z
UID:2168-1575108000-1575118800@www.semno.org
SUMMARY:2019 Annual Foul Weather Rifle Match
DESCRIPTION:Program:  2019 Annual Foul Weather Rifle Match
URL:https://www.semno.org/event/2019-annual-foul-weather-rifle-match/
LOCATION:Midland County Sportsman’s Club\, 8825 Sturgeon Road\, Midland\, MI\, 48640\, United States
CATEGORIES:Mid-Range Prone
ORGANIZER;CN="Leo Cebula":MAILTO:lcebula@comcast.net
END:VEVENT
BEGIN:VEVENT
DTSTART;TZID=America/Detroit:20191102T090000
DTEND;TZID=America/Detroit:20191102T163000
DTSTAMP:20260422T005546
CREATED:20190111T003439Z
LAST-MODIFIED:20191027T231042Z
UID:2165-1572685200-1572712200@www.semno.org
SUMMARY:2019 Halloween BSA Charity Match
DESCRIPTION:Program: 2019 Halloween BSA Charity Match
URL:https://www.semno.org/event/2019-halloween-bsa-charity-match/
LOCATION:Midland County Sportsman’s Club\, 8825 Sturgeon Road\, Midland\, MI\, 48640\, United States
CATEGORIES:Mid-Range Prone
ORGANIZER;CN="Leo Cebula":MAILTO:lcebula@comcast.net
END:VEVENT
BEGIN:VEVENT
DTSTART;TZID=America/Detroit:20191012T050000
DTEND;TZID=America/Detroit:20191012T093000
DTSTAMP:20260422T005546
CREATED:20190111T002623Z
LAST-MODIFIED:20190820T213619Z
UID:2157-1570856400-1570872600@www.semno.org
SUMMARY:2019 Suburban Mid-Range Prone League
DESCRIPTION:Program: 2019 Suburban Mid-Range Prone Championship
URL:https://www.semno.org/event/2019-suburban-mid-range-prone-league-5/
LOCATION:Midland County Sportsman’s Club\, 8825 Sturgeon Road\, Midland\, MI\, 48640\, United States
CATEGORIES:Mid-Range Prone
ORGANIZER;CN="Leo Cebula":MAILTO:lcebula@comcast.net
END:VEVENT
BEGIN:VEVENT
DTSTART;TZID=America/Detroit:20190921T050000
DTEND;TZID=America/Detroit:20190921T093000
DTSTAMP:20260422T005546
CREATED:20190111T002437Z
LAST-MODIFIED:20190820T213518Z
UID:2155-1569042000-1569058200@www.semno.org
SUMMARY:2019 Suburban Mid-Range Prone League
DESCRIPTION:Program: 2019 Suburban Mid-Range Prone Championship
URL:https://www.semno.org/event/2019-suburban-mid-range-prone-league-4/
LOCATION:Midland County Sportsman’s Club\, 8825 Sturgeon Road\, Midland\, MI\, 48640\, United States
CATEGORIES:Mid-Range Prone
ORGANIZER;CN="Leo Cebula":MAILTO:lcebula@comcast.net
END:VEVENT
BEGIN:VEVENT
DTSTART;TZID=America/Detroit:20190831T050000
DTEND;TZID=America/Detroit:20190831T123000
DTSTAMP:20260422T005546
CREATED:20190111T003154Z
LAST-MODIFIED:20190111T003154Z
UID:2162-1567227600-1567254600@www.semno.org
SUMMARY:2019 Michigan Mid-Range Prone Championship
DESCRIPTION:Program:  2019 Michigan Mid-Range Prone Championship
URL:https://www.semno.org/event/2019-michigan-mid-range-prone-championship/
LOCATION:Midland County Sportsman’s Club\, 8825 Sturgeon Road\, Midland\, MI\, 48640\, United States
CATEGORIES:Mid-Range Prone
ORGANIZER;CN="Leo Cebula":MAILTO:lcebula@comcast.net
END:VEVENT
BEGIN:VEVENT
DTSTART;TZID=America/Detroit:20190704T050000
DTEND;TZID=America/Detroit:20190704T093000
DTSTAMP:20260422T005546
CREATED:20190111T002248Z
LAST-MODIFIED:20190621T014430Z
UID:2153-1562216400-1562232600@www.semno.org
SUMMARY:2019 Suburban Mid-Range Prone League
DESCRIPTION:This date rescheduled from July 6\, 2019 to July 4\, 2019.  Please make a note of it. \nProgram:  2019 Suburban Mid-Range Prone Championship
URL:https://www.semno.org/event/2019-suburban-mid-range-prone-league-3/
LOCATION:Midland County Sportsman’s Club\, 8825 Sturgeon Road\, Midland\, MI\, 48640\, United States
CATEGORIES:Mid-Range Prone
ATTACH;FMTTYPE=image/jpeg:https://www.semno.org/wp-content/uploads/2019/05/MCSCLineRight.jpg
ORGANIZER;CN="Leo Cebula":MAILTO:lcebula@comcast.net
END:VEVENT
BEGIN:VEVENT
DTSTART;TZID=America/Detroit:20190615T050000
DTEND;TZID=America/Detroit:20190615T093000
DTSTAMP:20260422T005546
CREATED:20190111T002028Z
LAST-MODIFIED:20190111T002028Z
UID:2151-1560574800-1560591000@www.semno.org
SUMMARY:2019 Suburban Mid-Range Prone League
DESCRIPTION:Program:  2019 Suburban Mid-Range Prone Championship
URL:https://www.semno.org/event/2019-suburban-mid-range-prone-league-2/
LOCATION:Midland County Sportsman’s Club\, 8825 Sturgeon Road\, Midland\, MI\, 48640\, United States
CATEGORIES:Mid-Range Prone
ORGANIZER;CN="Leo Cebula":MAILTO:lcebula@comcast.net
END:VEVENT
END:VCALENDAR