BEGIN:VCALENDAR
VERSION:2.0
PRODID:-//SEMNO High Masters Shooting Team - ECPv6.15.20//NONSGML v1.0//EN
CALSCALE:GREGORIAN
METHOD:PUBLISH
X-ORIGINAL-URL:https://www.semno.org
X-WR-CALDESC:Events for SEMNO High Masters Shooting Team
REFRESH-INTERVAL;VALUE=DURATION:PT1H
X-Robots-Tag:noindex
X-PUBLISHED-TTL:PT1H
BEGIN:VTIMEZONE
TZID:America/Detroit
BEGIN:DAYLIGHT
TZOFFSETFROM:-0500
TZOFFSETTO:-0400
TZNAME:EDT
DTSTART:20220313T070000
END:DAYLIGHT
BEGIN:STANDARD
TZOFFSETFROM:-0400
TZOFFSETTO:-0500
TZNAME:EST
DTSTART:20221106T060000
END:STANDARD
BEGIN:DAYLIGHT
TZOFFSETFROM:-0500
TZOFFSETTO:-0400
TZNAME:EDT
DTSTART:20230312T070000
END:DAYLIGHT
BEGIN:STANDARD
TZOFFSETFROM:-0400
TZOFFSETTO:-0500
TZNAME:EST
DTSTART:20231105T060000
END:STANDARD
BEGIN:DAYLIGHT
TZOFFSETFROM:-0500
TZOFFSETTO:-0400
TZNAME:EDT
DTSTART:20240310T070000
END:DAYLIGHT
BEGIN:STANDARD
TZOFFSETFROM:-0400
TZOFFSETTO:-0500
TZNAME:EST
DTSTART:20241103T060000
END:STANDARD
BEGIN:DAYLIGHT
TZOFFSETFROM:-0500
TZOFFSETTO:-0400
TZNAME:EDT
DTSTART:20250309T070000
END:DAYLIGHT
BEGIN:STANDARD
TZOFFSETFROM:-0400
TZOFFSETTO:-0500
TZNAME:EST
DTSTART:20251102T060000
END:STANDARD
BEGIN:DAYLIGHT
TZOFFSETFROM:-0500
TZOFFSETTO:-0400
TZNAME:EDT
DTSTART:20260308T070000
END:DAYLIGHT
BEGIN:STANDARD
TZOFFSETFROM:-0400
TZOFFSETTO:-0500
TZNAME:EST
DTSTART:20261101T060000
END:STANDARD
END:VTIMEZONE
BEGIN:VEVENT
DTSTART;TZID=America/Detroit:20250726T090000
DTEND;TZID=America/Detroit:20250726T150000
DTSTAMP:20260421T183053
CREATED:20250119T181854Z
LAST-MODIFIED:20250119T181854Z
UID:4517-1753520400-1753542000@www.semno.org
SUMMARY:2025 Suburban Mid-Range Prone League
DESCRIPTION:2025 Suburban Mid-Range Prone League 2
URL:https://www.semno.org/event/2025-suburban-mid-range-prone-league-3/
LOCATION:Midland County Sportsman’s Club\, 8825 Sturgeon Road\, Midland\, MI\, 48640\, United States
CATEGORIES:Mid-Range Prone
ATTACH;FMTTYPE=image/jpeg:https://www.semno.org/wp-content/uploads/2018/10/Joshmooresling.jpg
ORGANIZER;CN="Leo Cebula":MAILTO:lcebula@comcast.net
END:VEVENT
BEGIN:VEVENT
DTSTART;TZID=America/Detroit:20250628T090000
DTEND;TZID=America/Detroit:20250628T150000
DTSTAMP:20260421T183053
CREATED:20250119T170332Z
LAST-MODIFIED:20250119T170332Z
UID:4515-1751101200-1751122800@www.semno.org
SUMMARY:2025 Suburban Mid-Range Prone League
DESCRIPTION:2025 Suburban Mid-Range Prone League 2
URL:https://www.semno.org/event/2025-suburban-mid-range-prone-league-2/
LOCATION:Midland County Sportsman’s Club\, 8825 Sturgeon Road\, Midland\, MI\, 48640\, United States
CATEGORIES:Mid-Range Prone
ATTACH;FMTTYPE=image/jpeg:https://www.semno.org/wp-content/uploads/2019/05/MCSCLineRight.jpg
ORGANIZER;CN="Leo Cebula":MAILTO:lcebula@comcast.net
END:VEVENT
BEGIN:VEVENT
DTSTART;TZID=America/Detroit:20250517T090000
DTEND;TZID=America/Detroit:20250517T150000
DTSTAMP:20260421T183053
CREATED:20250119T170153Z
LAST-MODIFIED:20250119T170153Z
UID:4512-1747472400-1747494000@www.semno.org
SUMMARY:2025 Suburban Mid-Range Prone League
DESCRIPTION:2025 Suburban Mid-Range Prone League 2
URL:https://www.semno.org/event/2025-suburban-mid-range-prone-league/
LOCATION:Midland County Sportsman’s Club\, 8825 Sturgeon Road\, Midland\, MI\, 48640\, United States
CATEGORIES:Mid-Range Prone
ATTACH;FMTTYPE=image/jpeg:https://www.semno.org/wp-content/uploads/2019/05/2019-MCSC-Firing-Line.jpg
ORGANIZER;CN="Leo Cebula":MAILTO:lcebula@comcast.net
END:VEVENT
BEGIN:VEVENT
DTSTART;TZID=America/Detroit:20250419T100000
DTEND;TZID=America/Detroit:20250419T130000
DTSTAMP:20260421T183053
CREATED:20241230T152803Z
LAST-MODIFIED:20241230T152803Z
UID:4493-1745056800-1745067600@www.semno.org
SUMMARY:2025 Winter Mid-Range Prone League
DESCRIPTION:2025 Winter Mid-Range Prone League Program 2
URL:https://www.semno.org/event/2025-winter-mid-range-prone-league-6/
LOCATION:Midland County Sportsman’s Club\, 8825 Sturgeon Road\, Midland\, MI\, 48640\, United States
CATEGORIES:Mid-Range Prone
ATTACH;FMTTYPE=image/jpeg:https://www.semno.org/wp-content/uploads/2024/12/NYEtent3-scaled.jpg
ORGANIZER;CN="Ray Gross":MAILTO:iron308@gmail.com
END:VEVENT
BEGIN:VEVENT
DTSTART;TZID=America/Detroit:20250405T100000
DTEND;TZID=America/Detroit:20250405T130000
DTSTAMP:20260421T183053
CREATED:20241230T152647Z
LAST-MODIFIED:20241230T152647Z
UID:4491-1743847200-1743858000@www.semno.org
SUMMARY:2025 Winter Mid-Range Prone League
DESCRIPTION:2025 Winter Mid-Range Prone League Program 2
URL:https://www.semno.org/event/2025-winter-mid-range-prone-league-5/
LOCATION:Midland County Sportsman’s Club\, 8825 Sturgeon Road\, Midland\, MI\, 48640\, United States
CATEGORIES:Mid-Range Prone
ATTACH;FMTTYPE=image/jpeg:https://www.semno.org/wp-content/uploads/2024/12/NYETent2-scaled.jpg
ORGANIZER;CN="Ray Gross":MAILTO:iron308@gmail.com
END:VEVENT
BEGIN:VEVENT
DTSTART;TZID=America/Detroit:20250322T100000
DTEND;TZID=America/Detroit:20250322T130000
DTSTAMP:20260421T183053
CREATED:20241230T152028Z
LAST-MODIFIED:20241230T152028Z
UID:4486-1742637600-1742648400@www.semno.org
SUMMARY:2025 Winter Mid-Range Prone League
DESCRIPTION:2025 Winter Mid-Range Prone League Program 2
URL:https://www.semno.org/event/2025-winter-mid-range-prone-league-4/
LOCATION:Midland County Sportsman’s Club\, 8825 Sturgeon Road\, Midland\, MI\, 48640\, United States
CATEGORIES:Mid-Range Prone
ATTACH;FMTTYPE=image/jpeg:https://www.semno.org/wp-content/uploads/2024/12/NYEWinners-scaled.jpg
ORGANIZER;CN="Ray Gross":MAILTO:iron308@gmail.com
END:VEVENT
BEGIN:VEVENT
DTSTART;TZID=America/Detroit:20250308T100000
DTEND;TZID=America/Detroit:20250308T130000
DTSTAMP:20260421T183053
CREATED:20241230T151911Z
LAST-MODIFIED:20241230T152117Z
UID:4484-1741428000-1741438800@www.semno.org
SUMMARY:2025 Winter Mid-Range Prone League
DESCRIPTION:2025 Winter Mid-Range Prone League Program 2
URL:https://www.semno.org/event/2025-winter-mid-range-prone-league-3/
LOCATION:Midland County Sportsman’s Club\, 8825 Sturgeon Road\, Midland\, MI\, 48640\, United States
CATEGORIES:Mid-Range Prone
ATTACH;FMTTYPE=image/jpeg:https://www.semno.org/wp-content/uploads/2024/12/NYETent1-scaled.jpg
ORGANIZER;CN="Ray Gross":MAILTO:iron308@gmail.com
END:VEVENT
BEGIN:VEVENT
DTSTART;TZID=America/Detroit:20250222T100000
DTEND;TZID=America/Detroit:20250222T130000
DTSTAMP:20260421T183053
CREATED:20241230T151754Z
LAST-MODIFIED:20241230T152153Z
UID:4482-1740218400-1740229200@www.semno.org
SUMMARY:2025 Winter Mid-Range Prone League
DESCRIPTION:2025 Winter Mid-Range Prone League Program 2
URL:https://www.semno.org/event/2025-winter-mid-range-prone-league-2/
LOCATION:Midland County Sportsman’s Club\, 8825 Sturgeon Road\, Midland\, MI\, 48640\, United States
CATEGORIES:Mid-Range Prone
ATTACH;FMTTYPE=image/jpeg:https://www.semno.org/wp-content/uploads/2024/12/NYEtent3-scaled.jpg
ORGANIZER;CN="Ray Gross":MAILTO:iron308@gmail.com
END:VEVENT
BEGIN:VEVENT
DTSTART;TZID=America/Detroit:20250208T100000
DTEND;TZID=America/Detroit:20250208T130000
DTSTAMP:20260421T183053
CREATED:20241230T151640Z
LAST-MODIFIED:20241230T152317Z
UID:4480-1739008800-1739019600@www.semno.org
SUMMARY:2025 Winter Mid-Range Prone League
DESCRIPTION:2025 Winter Mid-Range Prone League Program 2
URL:https://www.semno.org/event/2025-winter-mid-range-prone-league/
LOCATION:Midland County Sportsman’s Club\, 8825 Sturgeon Road\, Midland\, MI\, 48640\, United States
CATEGORIES:Mid-Range Prone
ATTACH;FMTTYPE=image/jpeg:https://www.semno.org/wp-content/uploads/2024/12/NYETent2-scaled.jpg
ORGANIZER;CN="Ray Gross":MAILTO:iron308@gmail.com
END:VEVENT
BEGIN:VEVENT
DTSTART;TZID=America/Detroit:20241229T100000
DTEND;TZID=America/Detroit:20241229T130000
DTSTAMP:20260421T183053
CREATED:20241215T213049Z
LAST-MODIFIED:20241215T213049Z
UID:4442-1735466400-1735477200@www.semno.org
SUMMARY:2024 New Year's Eve Rifle Match
DESCRIPTION:We are scheduling the New Year’s Eve Rifle Match for December 29\, 30\, or 31\, 2024. Early in the week prior to those dates we will review the weather expected and announce the date on which the match will be held. \nGiven the use of the tent\, we will mostly be concerned with travel forecasts. Watch this site for information. \n2024 New Year’s Eve Rifle Match
URL:https://www.semno.org/event/2024-new-years-eve-rifle-match/
LOCATION:Midland County Sportsman’s Club\, 8825 Sturgeon Road\, Midland\, MI\, 48640\, United States
CATEGORIES:Mid-Range Prone
ATTACH;FMTTYPE=image/jpeg:https://www.semno.org/wp-content/uploads/2021/12/mcsctent1.jpg
ORGANIZER;CN="Leo Cebula":MAILTO:lcebula@comcast.net
END:VEVENT
BEGIN:VEVENT
DTSTART;TZID=America/Detroit:20241130T100000
DTEND;TZID=America/Detroit:20241130T133000
DTSTAMP:20260421T183053
CREATED:20240107T215326Z
LAST-MODIFIED:20240107T215326Z
UID:4137-1732960800-1732973400@www.semno.org
SUMMARY:2024 Annual Foul Weather Rifle Match
DESCRIPTION:2024 Annual Foul Weather
URL:https://www.semno.org/event/2024-annual-foul-weather-rifle-match/
LOCATION:Midland County Sportsman’s Club\, 8825 Sturgeon Road\, Midland\, MI\, 48640\, United States
CATEGORIES:Mid-Range Prone
ATTACH;FMTTYPE=image/jpeg:https://www.semno.org/wp-content/uploads/2019/11/2019HalloweenBSAWinners.jpg
ORGANIZER;CN="Ray Gross":MAILTO:iron308@gmail.com
END:VEVENT
BEGIN:VEVENT
DTSTART;TZID=America/Detroit:20241026T090000
DTEND;TZID=America/Detroit:20241026T133000
DTSTAMP:20260421T183053
CREATED:20240107T215000Z
LAST-MODIFIED:20241020T164523Z
UID:4134-1729933200-1729949400@www.semno.org
SUMMARY:2024 Halloween BSA Charity Match
DESCRIPTION:2024 Halloween BSA Charity Match
URL:https://www.semno.org/event/2024-halloween-bsa-charity-match/
LOCATION:Midland County Sportsman’s Club\, 8825 Sturgeon Road\, Midland\, MI\, 48640\, United States
CATEGORIES:Mid-Range Prone
ATTACH;FMTTYPE=image/jpeg:https://www.semno.org/wp-content/uploads/2023/10/Venture-Creek-Contribution-scaled.jpg
ORGANIZER;CN="Leo Cebula":MAILTO:lcebula@comcast.net
END:VEVENT
BEGIN:VEVENT
DTSTART;TZID=America/Detroit:20241005T090000
DTEND;TZID=America/Detroit:20241005T133000
DTSTAMP:20260421T183053
CREATED:20240107T214533Z
LAST-MODIFIED:20240107T214533Z
UID:4132-1728118800-1728135000@www.semno.org
SUMMARY:2024 Suburban Mid-Range Prone League Match 5
DESCRIPTION:2024 Suburban Mid-Range Prone League 2
URL:https://www.semno.org/event/2024-suburban-mid-range-prone-league-match-5/
LOCATION:Midland County Sportsman’s Club\, 8825 Sturgeon Road\, Midland\, MI\, 48640\, United States
CATEGORIES:Mid-Range Prone
ATTACH;FMTTYPE=image/jpeg:https://www.semno.org/wp-content/uploads/2019/05/MCSCLineRight.jpg
ORGANIZER;CN="Leo Cebula":MAILTO:lcebula@comcast.net
END:VEVENT
BEGIN:VEVENT
DTSTART;TZID=America/Detroit:20240921T090000
DTEND;TZID=America/Detroit:20240921T133000
DTSTAMP:20260421T183053
CREATED:20240107T214414Z
LAST-MODIFIED:20240107T214414Z
UID:4130-1726909200-1726925400@www.semno.org
SUMMARY:2024 Suburban Mid-Range Prone League Match 4
DESCRIPTION:2024 Suburban Mid-Range Prone League 2
URL:https://www.semno.org/event/2024-suburban-mid-range-prone-league-match-4/
LOCATION:Midland County Sportsman’s Club\, 8825 Sturgeon Road\, Midland\, MI\, 48640\, United States
CATEGORIES:Mid-Range Prone
ATTACH;FMTTYPE=image/jpeg:https://www.semno.org/wp-content/uploads/2017/05/IMG_1457.jpg
ORGANIZER;CN="Leo Cebula":MAILTO:lcebula@comcast.net
END:VEVENT
BEGIN:VEVENT
DTSTART;TZID=America/Detroit:20240831T090000
DTEND;TZID=America/Detroit:20240831T133000
DTSTAMP:20260421T183053
CREATED:20231223T194406Z
LAST-MODIFIED:20231223T194406Z
UID:4095-1725094800-1725111000@www.semno.org
SUMMARY:2024 Michigan Mid-Range Prone Championship
DESCRIPTION:2024 Michigan Mid-Range Prone Championship 2
URL:https://www.semno.org/event/2024-michigan-mid-range-prone-championship/
LOCATION:Midland County Sportsman’s Club\, 8825 Sturgeon Road\, Midland\, MI\, 48640\, United States
CATEGORIES:Mid-Range Prone
ATTACH;FMTTYPE=image/jpeg:https://www.semno.org/wp-content/uploads/2017/05/IMG_1460.jpg
ORGANIZER;CN="Leo Cebula":MAILTO:lcebula@comcast.net
END:VEVENT
BEGIN:VEVENT
DTSTART;TZID=America/Detroit:20240727T090000
DTEND;TZID=America/Detroit:20240727T133000
DTSTAMP:20260421T183053
CREATED:20240107T214240Z
LAST-MODIFIED:20240107T214240Z
UID:4128-1722070800-1722087000@www.semno.org
SUMMARY:2024 Suburban Mid-Range Prone League Match 3
DESCRIPTION:2024 Suburban Mid-Range Prone League 2
URL:https://www.semno.org/event/2024-suburban-mid-range-prone-league-match-3/
LOCATION:Midland County Sportsman’s Club\, 8825 Sturgeon Road\, Midland\, MI\, 48640\, United States
CATEGORIES:Mid-Range Prone
ATTACH;FMTTYPE=image/jpeg:https://www.semno.org/wp-content/uploads/2019/05/PeterChurchFullbore.jpg
ORGANIZER;CN="Leo Cebula":MAILTO:lcebula@comcast.net
END:VEVENT
BEGIN:VEVENT
DTSTART;TZID=America/Detroit:20240615T090000
DTEND;TZID=America/Detroit:20240615T133000
DTSTAMP:20260421T183053
CREATED:20240107T214108Z
LAST-MODIFIED:20240107T214108Z
UID:4126-1718442000-1718458200@www.semno.org
SUMMARY:2024 Suburban Mid-Range Prone League Match 2
DESCRIPTION:2024 Suburban Mid-Range Prone League 2
URL:https://www.semno.org/event/2024-suburban-mid-range-prone-league-match-2/
LOCATION:Midland County Sportsman’s Club\, 8825 Sturgeon Road\, Midland\, MI\, 48640\, United States
CATEGORIES:Mid-Range Prone
ATTACH;FMTTYPE=image/jpeg:https://www.semno.org/wp-content/uploads/2020/11/2020AFW-Firing-Line.jpeg
ORGANIZER;CN="Leo Cebula":MAILTO:lcebula@comcast.net
END:VEVENT
BEGIN:VEVENT
DTSTART;TZID=America/Detroit:20240511T090000
DTEND;TZID=America/Detroit:20240511T133000
DTSTAMP:20260421T183053
CREATED:20240107T213940Z
LAST-MODIFIED:20240107T213940Z
UID:4123-1715418000-1715434200@www.semno.org
SUMMARY:2024 Suburban Mid-Range Prone League Match 1
DESCRIPTION:2024 Suburban Mid-Range Prone League 2
URL:https://www.semno.org/event/2024-suburban-mid-range-prone-league-match-1/
LOCATION:Midland County Sportsman’s Club\, 8825 Sturgeon Road\, Midland\, MI\, 48640\, United States
CATEGORIES:Mid-Range Prone
ATTACH;FMTTYPE=image/jpeg:https://www.semno.org/wp-content/uploads/2021/05/IMG_1282-scaled.jpeg
ORGANIZER;CN="Leo Cebula":MAILTO:lcebula@comcast.net
END:VEVENT
BEGIN:VEVENT
DTSTART;TZID=America/Detroit:20240427T100000
DTEND;TZID=America/Detroit:20240427T130000
DTSTAMP:20260421T183053
CREATED:20231219T002136Z
LAST-MODIFIED:20231219T002136Z
UID:4088-1714212000-1714222800@www.semno.org
SUMMARY:2024 Winter Mid-Range Prone League
DESCRIPTION:2024 Winter Mid-Range Prone League Program 2
URL:https://www.semno.org/event/2024-winter-mid-range-prone-league-6/
LOCATION:Midland County Sportsman’s Club\, 8825 Sturgeon Road\, Midland\, MI\, 48640\, United States
CATEGORIES:Mid-Range Prone
ATTACH;FMTTYPE=image/jpeg:https://www.semno.org/wp-content/uploads/2020/02/Tent3.jpg
ORGANIZER;CN="Ray Gross":MAILTO:iron308@gmail.com
END:VEVENT
BEGIN:VEVENT
DTSTART;TZID=America/Detroit:20240413T100000
DTEND;TZID=America/Detroit:20240413T130000
DTSTAMP:20260421T183053
CREATED:20231219T001901Z
LAST-MODIFIED:20231219T001901Z
UID:4084-1713002400-1713013200@www.semno.org
SUMMARY:2024 Winter Mid-Range Prone League
DESCRIPTION:2024 Winter Mid-Range Prone League Program 2
URL:https://www.semno.org/event/2024-winter-mid-range-prone-league-4/
LOCATION:Midland County Sportsman’s Club\, 8825 Sturgeon Road\, Midland\, MI\, 48640\, United States
CATEGORIES:Mid-Range Prone
ATTACH;FMTTYPE=image/jpeg:https://www.semno.org/wp-content/uploads/2020/02/Tent2.jpg
ORGANIZER;CN="Ray Gross":MAILTO:iron308@gmail.com
END:VEVENT
BEGIN:VEVENT
DTSTART;TZID=America/Detroit:20240406T100000
DTEND;TZID=America/Detroit:20240406T130000
DTSTAMP:20260421T183053
CREATED:20231219T001659Z
LAST-MODIFIED:20231219T001659Z
UID:4082-1712397600-1712408400@www.semno.org
SUMMARY:2024 Winter Mid-Range Prone League
DESCRIPTION:2024 Winter Mid-Range Prone League Program 2
URL:https://www.semno.org/event/2024-winter-mid-range-prone-league-3/
LOCATION:Midland County Sportsman’s Club\, 8825 Sturgeon Road\, Midland\, MI\, 48640\, United States
CATEGORIES:Mid-Range Prone
ATTACH;FMTTYPE=image/jpeg:https://www.semno.org/wp-content/uploads/2020/02/Tent1.jpg
ORGANIZER;CN="Ray Gross":MAILTO:iron308@gmail.com
END:VEVENT
BEGIN:VEVENT
DTSTART;TZID=America/Detroit:20240224T100000
DTEND;TZID=America/Detroit:20240224T130000
DTSTAMP:20260421T183053
CREATED:20231219T001456Z
LAST-MODIFIED:20231219T001456Z
UID:4080-1708768800-1708779600@www.semno.org
SUMMARY:2024 Winter Mid-Range Prone League
DESCRIPTION:2024 Winter Mid-Range Prone League Program 2
URL:https://www.semno.org/event/2024-winter-mid-range-prone-league-2/
LOCATION:Midland County Sportsman’s Club\, 8825 Sturgeon Road\, Midland\, MI\, 48640\, United States
CATEGORIES:Mid-Range Prone
ATTACH;FMTTYPE=image/jpeg:https://www.semno.org/wp-content/uploads/2021/12/mcsctent1.jpg
ORGANIZER;CN="Ray Gross":MAILTO:iron308@gmail.com
END:VEVENT
BEGIN:VEVENT
DTSTART;TZID=America/Detroit:20240203T100000
DTEND;TZID=America/Detroit:20240203T130000
DTSTAMP:20260421T183053
CREATED:20231219T001013Z
LAST-MODIFIED:20231219T001013Z
UID:4076-1706954400-1706965200@www.semno.org
SUMMARY:2024 Winter Mid-Range Prone League
DESCRIPTION:2024 Winter Mid-Range Prone League Program 2
URL:https://www.semno.org/event/2024-winter-mid-range-prone-league/
LOCATION:Midland County Sportsman’s Club\, 8825 Sturgeon Road\, Midland\, MI\, 48640\, United States
CATEGORIES:Mid-Range Prone
ATTACH;FMTTYPE=image/jpeg:https://www.semno.org/wp-content/uploads/2021/12/MCSCtent2.jpg
ORGANIZER;CN="Ray Gross":MAILTO:iron308@gmail.com
END:VEVENT
BEGIN:VEVENT
DTSTART;TZID=America/Detroit:20231230T100000
DTEND;TZID=America/Detroit:20231230T130000
DTSTAMP:20260421T183053
CREATED:20231224T221239Z
LAST-MODIFIED:20231228T174037Z
UID:4098-1703930400-1703941200@www.semno.org
SUMMARY:2023 New Year's Eve Rifle Match
DESCRIPTION:2023 New Year’s Eve Rifle Match
URL:https://www.semno.org/event/2023-new-years-eve-rifle-match/
LOCATION:Midland County Sportsman’s Club\, 8825 Sturgeon Road\, Midland\, MI\, 48640\, United States
CATEGORIES:Mid-Range Prone
ATTACH;FMTTYPE=image/jpeg:https://www.semno.org/wp-content/uploads/2019/12/2019NYERayjpg.jpg
ORGANIZER;CN="Ray Gross":MAILTO:iron308@gmail.com
END:VEVENT
BEGIN:VEVENT
DTSTART;TZID=America/Detroit:20231125T100000
DTEND;TZID=America/Detroit:20231125T130000
DTSTAMP:20260421T183053
CREATED:20230109T215244Z
LAST-MODIFIED:20230109T215244Z
UID:3775-1700906400-1700917200@www.semno.org
SUMMARY:2023 Annual Foul Weater Rifle Match
DESCRIPTION:2023 Annual Foul Weather
URL:https://www.semno.org/event/2023-annual-foul-weater-rifle-match/
LOCATION:Midland County Sportsman’s Club\, 8825 Sturgeon Road\, Midland\, MI\, 48640\, United States
CATEGORIES:Mid-Range Prone
ATTACH;FMTTYPE=image/jpeg:https://www.semno.org/wp-content/uploads/2019/11/2019HalloweenBSAWinners.jpg
ORGANIZER;CN="Ray Gross":MAILTO:iron308@gmail.com
END:VEVENT
BEGIN:VEVENT
DTSTART;TZID=America/Detroit:20231014T090000
DTEND;TZID=America/Detroit:20231014T130000
DTSTAMP:20260421T183053
CREATED:20230109T214432Z
LAST-MODIFIED:20230906T021115Z
UID:3773-1697274000-1697288400@www.semno.org
SUMMARY:2023 Halloween BSA Charity Match
DESCRIPTION:2023 Halloween BSA Charity Match
URL:https://www.semno.org/event/2023-suburban-mid-range-prone-league-match-5/
LOCATION:Midland County Sportsman’s Club\, 8825 Sturgeon Road\, Midland\, MI\, 48640\, United States
CATEGORIES:Mid-Range Prone
ATTACH;FMTTYPE=image/jpeg:https://www.semno.org/wp-content/uploads/2021/10/2021-BSA-Charity-Match_opt.jpg
ORGANIZER;CN="Leo Cebula":MAILTO:lcebula@comcast.net
END:VEVENT
BEGIN:VEVENT
DTSTART;TZID=America/Detroit:20230923T090000
DTEND;TZID=America/Detroit:20230923T130000
DTSTAMP:20260421T183053
CREATED:20230109T214306Z
LAST-MODIFIED:20230109T214306Z
UID:3771-1695459600-1695474000@www.semno.org
SUMMARY:2023 Suburban Mid-Range Prone League Match 4
DESCRIPTION:2023 Suburban Mid-Range Prone League 2
URL:https://www.semno.org/event/2023-suburban-mid-range-prone-league-match-4/
LOCATION:Midland County Sportsman’s Club\, 8825 Sturgeon Road\, Midland\, MI\, 48640\, United States
CATEGORIES:Mid-Range Prone
ATTACH;FMTTYPE=image/jpeg:https://www.semno.org/wp-content/uploads/2019/05/MCSCLineRight.jpg
ORGANIZER;CN="Leo Cebula":MAILTO:lcebula@comcast.net
END:VEVENT
BEGIN:VEVENT
DTSTART;TZID=America/Detroit:20230902T090000
DTEND;TZID=America/Detroit:20230902T163000
DTSTAMP:20260421T183053
CREATED:20230109T212538Z
LAST-MODIFIED:20230109T212538Z
UID:3760-1693645200-1693672200@www.semno.org
SUMMARY:2023 Michigan Mid-Range Prone Championship
DESCRIPTION:2023 Michigan Mid-Range Prone Championship 2
URL:https://www.semno.org/event/2023-michigan-mid-range-prone-championship/
LOCATION:Midland County Sportsman’s Club\, 8825 Sturgeon Road\, Midland\, MI\, 48640\, United States
CATEGORIES:Mid-Range Prone
ATTACH;FMTTYPE=image/jpeg:https://www.semno.org/wp-content/uploads/2019/05/Root-Whitney.jpg
ORGANIZER;CN="Leo Cebula":MAILTO:lcebula@comcast.net
END:VEVENT
BEGIN:VEVENT
DTSTART;TZID=America/Detroit:20230715T090000
DTEND;TZID=America/Detroit:20230715T130000
DTSTAMP:20260421T183053
CREATED:20230109T214133Z
LAST-MODIFIED:20230109T214133Z
UID:3769-1689411600-1689426000@www.semno.org
SUMMARY:2023 Suburban Mid-Range Prone League Match 3
DESCRIPTION:2023 Suburban Mid-Range Prone League 2
URL:https://www.semno.org/event/2023-suburban-mid-range-prone-league-match-3/
LOCATION:Midland County Sportsman’s Club\, 8825 Sturgeon Road\, Midland\, MI\, 48640\, United States
CATEGORIES:Mid-Range Prone
ATTACH;FMTTYPE=image/jpeg:https://www.semno.org/wp-content/uploads/2021/05/IMG_1282_opt.jpg
ORGANIZER;CN="Leo Cebula":MAILTO:lcebula@comcast.net
END:VEVENT
BEGIN:VEVENT
DTSTART;TZID=America/Detroit:20230617T090000
DTEND;TZID=America/Detroit:20230617T133000
DTSTAMP:20260421T183053
CREATED:20230109T214017Z
LAST-MODIFIED:20230109T214018Z
UID:3767-1686992400-1687008600@www.semno.org
SUMMARY:2023 Suburban Mid-Range Prone League Match 2
DESCRIPTION:2023 Suburban Mid-Range Prone League 2
URL:https://www.semno.org/event/2023-suburban-mid-range-prone-league-match-2/
LOCATION:Midland County Sportsman’s Club\, 8825 Sturgeon Road\, Midland\, MI\, 48640\, United States
CATEGORIES:Mid-Range Prone
ATTACH;FMTTYPE=image/jpeg:https://www.semno.org/wp-content/uploads/2019/05/2019-MCSC-Firing-Line2.jpg
ORGANIZER;CN="Leo Cebula":MAILTO:lcebula@comcast.net
END:VEVENT
END:VCALENDAR