BEGIN:VCALENDAR
VERSION:2.0
PRODID:-//SEMNO High Masters Shooting Team - ECPv6.15.20//NONSGML v1.0//EN
CALSCALE:GREGORIAN
METHOD:PUBLISH
X-WR-CALNAME:SEMNO High Masters Shooting Team
X-ORIGINAL-URL:https://www.semno.org
X-WR-CALDESC:Events for SEMNO High Masters Shooting Team
REFRESH-INTERVAL;VALUE=DURATION:PT1H
X-Robots-Tag:noindex
X-PUBLISHED-TTL:PT1H
BEGIN:VTIMEZONE
TZID:America/Detroit
BEGIN:DAYLIGHT
TZOFFSETFROM:-0500
TZOFFSETTO:-0400
TZNAME:EDT
DTSTART:20150308T070000
END:DAYLIGHT
BEGIN:STANDARD
TZOFFSETFROM:-0400
TZOFFSETTO:-0500
TZNAME:EST
DTSTART:20151101T060000
END:STANDARD
BEGIN:DAYLIGHT
TZOFFSETFROM:-0500
TZOFFSETTO:-0400
TZNAME:EDT
DTSTART:20160313T070000
END:DAYLIGHT
BEGIN:STANDARD
TZOFFSETFROM:-0400
TZOFFSETTO:-0500
TZNAME:EST
DTSTART:20161106T060000
END:STANDARD
BEGIN:DAYLIGHT
TZOFFSETFROM:-0500
TZOFFSETTO:-0400
TZNAME:EDT
DTSTART:20170312T070000
END:DAYLIGHT
BEGIN:STANDARD
TZOFFSETFROM:-0400
TZOFFSETTO:-0500
TZNAME:EST
DTSTART:20171105T060000
END:STANDARD
END:VTIMEZONE
BEGIN:VEVENT
DTSTART;TZID=America/Detroit:20161126T040000
DTEND;TZID=America/Detroit:20161126T100000
DTSTAMP:20260422T115209
CREATED:20160220T182136Z
LAST-MODIFIED:20160222T174737Z
UID:304-1480132800-1480154400@www.semno.org
SUMMARY:2016 Annual Foul Weather Rifle Match
DESCRIPTION:2016 Annual Foul Weather
URL:https://www.semno.org/event/2016-annual-foul-weather-rifle-match/
LOCATION:Midland County Sportsman’s Club\, 8825 Sturgeon Road\, Midland\, MI\, 48640\, United States
CATEGORIES:Mid-Range Prone
ORGANIZER;CN="Leo Cebula":MAILTO:lcebula@comcast.net
END:VEVENT
BEGIN:VEVENT
DTSTART;TZID=America/Detroit:20161029T050000
DTEND;TZID=America/Detroit:20161029T090000
DTSTAMP:20260422T115209
CREATED:20160220T181814Z
LAST-MODIFIED:20160222T174753Z
UID:302-1477717200-1477731600@www.semno.org
SUMMARY:2016 Halloween BSA Charity Match
DESCRIPTION:2016 Halloween BSA Charity Match
URL:https://www.semno.org/event/2016-halloween-bsa-charity-match/
LOCATION:Midland County Sportsman’s Club\, 8825 Sturgeon Road\, Midland\, MI\, 48640\, United States
CATEGORIES:Mid-Range Prone
ORGANIZER;CN="Leo Cebula":MAILTO:lcebula@comcast.net
END:VEVENT
BEGIN:VEVENT
DTSTART;TZID=America/Detroit:20161015T050000
DTEND;TZID=America/Detroit:20161015T080000
DTSTAMP:20260422T115209
CREATED:20160220T175832Z
LAST-MODIFIED:20160922T184545Z
UID:297-1476507600-1476518400@www.semno.org
SUMMARY:2016 Suburban Mid-Range Prone League
DESCRIPTION:2016 Suburban Mid-Range Prone League Program \nChanged to October 15\, 2016 due to personnel unavailability.
URL:https://www.semno.org/event/2016-suburban-mid-range-prone-league-5/
LOCATION:Midland County Sportsman’s Club\, 8825 Sturgeon Road\, Midland\, MI\, 48640\, United States
CATEGORIES:Mid-Range Prone
ORGANIZER;CN="Leo Cebula":MAILTO:lcebula@comcast.net
END:VEVENT
BEGIN:VEVENT
DTSTART;TZID=America/Detroit:20160917T050000
DTEND;TZID=America/Detroit:20160917T080000
DTSTAMP:20260422T115209
CREATED:20160220T175739Z
LAST-MODIFIED:20160222T174821Z
UID:296-1474088400-1474099200@www.semno.org
SUMMARY:2016 Suburban Mid-Range Prone League
DESCRIPTION:2016 Suburban Mid-Range Prone League Program
URL:https://www.semno.org/event/2016-suburban-mid-range-prone-league-4/
LOCATION:Midland County Sportsman’s Club\, 8825 Sturgeon Road\, Midland\, MI\, 48640\, United States
CATEGORIES:Mid-Range Prone
ORGANIZER;CN="Leo Cebula":MAILTO:lcebula@comcast.net
END:VEVENT
BEGIN:VEVENT
DTSTART;TZID=America/Detroit:20160903T050000
DTEND;TZID=America/Detroit:20160903T110000
DTSTAMP:20260422T115209
CREATED:20160220T180603Z
LAST-MODIFIED:20160222T174843Z
UID:300-1472878800-1472900400@www.semno.org
SUMMARY:2016 Michigan Mid-Range Prone Championship
DESCRIPTION:2016 Michigan Mid-Range Prone Championship
URL:https://www.semno.org/event/2016-michigan-mid-range-prone-championship/
LOCATION:Midland County Sportsman’s Club\, 8825 Sturgeon Road\, Midland\, MI\, 48640\, United States
CATEGORIES:Mid-Range Prone
ORGANIZER;CN="Leo Cebula":MAILTO:lcebula@comcast.net
END:VEVENT
BEGIN:VEVENT
DTSTART;TZID=America/Detroit:20160730T050000
DTEND;TZID=America/Detroit:20160730T080000
DTSTAMP:20260422T115209
CREATED:20160220T175447Z
LAST-MODIFIED:20160712T045120Z
UID:295-1469854800-1469865600@www.semno.org
SUMMARY:2016 Suburban Mid-Range Prone League
DESCRIPTION:2016 Suburban Mid-Range Prone League Program
URL:https://www.semno.org/event/2016-suburban-mid-range-prone-league-3/
LOCATION:Midland County Sportsman’s Club\, 8825 Sturgeon Road\, Midland\, MI\, 48640\, United States
CATEGORIES:Mid-Range Prone
ORGANIZER;CN="Leo Cebula":MAILTO:lcebula@comcast.net
END:VEVENT
BEGIN:VEVENT
DTSTART;TZID=America/Detroit:20160618T050000
DTEND;TZID=America/Detroit:20160618T080000
DTSTAMP:20260422T115209
CREATED:20160220T175405Z
LAST-MODIFIED:20160616T223341Z
UID:294-1466226000-1466236800@www.semno.org
SUMMARY:2016 Suburban Mid-Range Prone League
DESCRIPTION:2016 Suburban Mid-Range Prone League Program
URL:https://www.semno.org/event/2016-suburban-mid-range-prone-league-2/
LOCATION:Midland County Sportsman’s Club\, 8825 Sturgeon Road\, Midland\, MI\, 48640\, United States
CATEGORIES:Mid-Range Prone
ORGANIZER;CN="Leo Cebula":MAILTO:lcebula@comcast.net
END:VEVENT
BEGIN:VEVENT
DTSTART;TZID=America/Detroit:20160507T050000
DTEND;TZID=America/Detroit:20160507T080000
DTSTAMP:20260422T115209
CREATED:20160220T175317Z
LAST-MODIFIED:20160222T175027Z
UID:292-1462597200-1462608000@www.semno.org
SUMMARY:2016 Suburban Mid-Range Prone League
DESCRIPTION:2016 Suburban Mid-Range Prone League Program
URL:https://www.semno.org/event/2016-suburban-mid-range-prone-league/
LOCATION:Midland County Sportsman’s Club\, 8825 Sturgeon Road\, Midland\, MI\, 48640\, United States
CATEGORIES:Mid-Range Prone
ORGANIZER;CN="Leo Cebula":MAILTO:lcebula@comcast.net
END:VEVENT
BEGIN:VEVENT
DTSTART;TZID=America/Detroit:20160430T050000
DTEND;TZID=America/Detroit:20160430T080000
DTSTAMP:20260422T115209
CREATED:20160220T175145Z
LAST-MODIFIED:20160222T175052Z
UID:291-1461992400-1462003200@www.semno.org
SUMMARY:2016 Winter Mid-Range Prone
DESCRIPTION:2016 Winter Mid-Range Prone League Program
URL:https://www.semno.org/event/2016-winter-mid-range-prone-4/
LOCATION:Midland County Sportsman’s Club\, 8825 Sturgeon Road\, Midland\, MI\, 48640\, United States
CATEGORIES:Mid-Range Prone
ORGANIZER;CN="Leo Cebula":MAILTO:lcebula@comcast.net
END:VEVENT
BEGIN:VEVENT
DTSTART;TZID=America/Detroit:20160423T050000
DTEND;TZID=America/Detroit:20160423T080000
DTSTAMP:20260422T115209
CREATED:20160220T175045Z
LAST-MODIFIED:20160222T175117Z
UID:290-1461387600-1461398400@www.semno.org
SUMMARY:2016 Winter Mid-Range Prone
DESCRIPTION:2016 Winter Mid-Range Prone League Program
URL:https://www.semno.org/event/2016-winter-mid-range-prone-3/
LOCATION:Midland County Sportsman’s Club\, 8825 Sturgeon Road\, Midland\, MI\, 48640\, United States
CATEGORIES:Mid-Range Prone
ORGANIZER;CN="Leo Cebula":MAILTO:lcebula@comcast.net
END:VEVENT
BEGIN:VEVENT
DTSTART;TZID=America/Detroit:20160402T050000
DTEND;TZID=America/Detroit:20160402T080000
DTSTAMP:20260422T115209
CREATED:20160220T175003Z
LAST-MODIFIED:20160306T010624Z
UID:289-1459573200-1459584000@www.semno.org
SUMMARY:2016 Winter Mid-Range Prone
DESCRIPTION:2016 Winter Mid-Range Prone League Program
URL:https://www.semno.org/event/2016-winter-mid-range-prone-2/
LOCATION:Midland County Sportsman’s Club\, 8825 Sturgeon Road\, Midland\, MI\, 48640\, United States
CATEGORIES:Mid-Range Prone
ORGANIZER;CN="Leo Cebula":MAILTO:lcebula@comcast.net
END:VEVENT
BEGIN:VEVENT
DTSTART;TZID=America/Detroit:20160319T050000
DTEND;TZID=America/Detroit:20160319T080000
DTSTAMP:20260422T115209
CREATED:20160220T174909Z
LAST-MODIFIED:20160222T175255Z
UID:288-1458363600-1458374400@www.semno.org
SUMMARY:2016 Winter Mid-Range Prone
DESCRIPTION:2016 Winter Mid-Range Prone League Program
URL:https://www.semno.org/event/2016-winter-mid-range-prone/
LOCATION:Midland County Sportsman’s Club\, 8825 Sturgeon Road\, Midland\, MI\, 48640\, United States
CATEGORIES:Mid-Range Prone
ORGANIZER;CN="Leo Cebula":MAILTO:lcebula@comcast.net
END:VEVENT
END:VCALENDAR