BEGIN:VCALENDAR
VERSION:2.0
PRODID:-//SEMNO High Masters Shooting Team - ECPv6.15.20//NONSGML v1.0//EN
CALSCALE:GREGORIAN
METHOD:PUBLISH
X-WR-CALNAME:SEMNO High Masters Shooting Team
X-ORIGINAL-URL:https://www.semno.org
X-WR-CALDESC:Events for SEMNO High Masters Shooting Team
REFRESH-INTERVAL;VALUE=DURATION:PT1H
X-Robots-Tag:noindex
X-PUBLISHED-TTL:PT1H
BEGIN:VTIMEZONE
TZID:America/Detroit
BEGIN:DAYLIGHT
TZOFFSETFROM:-0500
TZOFFSETTO:-0400
TZNAME:EDT
DTSTART:20150308T070000
END:DAYLIGHT
BEGIN:STANDARD
TZOFFSETFROM:-0400
TZOFFSETTO:-0500
TZNAME:EST
DTSTART:20151101T060000
END:STANDARD
BEGIN:DAYLIGHT
TZOFFSETFROM:-0500
TZOFFSETTO:-0400
TZNAME:EDT
DTSTART:20160313T070000
END:DAYLIGHT
BEGIN:STANDARD
TZOFFSETFROM:-0400
TZOFFSETTO:-0500
TZNAME:EST
DTSTART:20161106T060000
END:STANDARD
BEGIN:DAYLIGHT
TZOFFSETFROM:-0500
TZOFFSETTO:-0400
TZNAME:EDT
DTSTART:20170312T070000
END:DAYLIGHT
BEGIN:STANDARD
TZOFFSETFROM:-0400
TZOFFSETTO:-0500
TZNAME:EST
DTSTART:20171105T060000
END:STANDARD
BEGIN:DAYLIGHT
TZOFFSETFROM:-0500
TZOFFSETTO:-0400
TZNAME:EDT
DTSTART:20180311T070000
END:DAYLIGHT
BEGIN:STANDARD
TZOFFSETFROM:-0400
TZOFFSETTO:-0500
TZNAME:EST
DTSTART:20181104T060000
END:STANDARD
BEGIN:DAYLIGHT
TZOFFSETFROM:-0500
TZOFFSETTO:-0400
TZNAME:EDT
DTSTART:20190310T070000
END:DAYLIGHT
BEGIN:STANDARD
TZOFFSETFROM:-0400
TZOFFSETTO:-0500
TZNAME:EST
DTSTART:20191103T060000
END:STANDARD
END:VTIMEZONE
BEGIN:VEVENT
DTSTART;TZID=America/Detroit:20180512T050000
DTEND;TZID=America/Detroit:20180512T090000
DTSTAMP:20260422T072801
CREATED:20180122T002351Z
LAST-MODIFIED:20180304T033648Z
UID:1766-1526101200-1526115600@www.semno.org
SUMMARY:2018 Suburban Mid-Range Prone League
DESCRIPTION:Program:  2018 Suburban Mid-Range Prone League
URL:https://www.semno.org/event/2018-suburban-mid-range-prone-league/
LOCATION:Midland County Sportsman’s Club\, 8825 Sturgeon Road\, Midland\, MI\, 48640\, United States
CATEGORIES:Mid-Range Prone
ORGANIZER;CN="Leo Cebula":MAILTO:lcebula@comcast.net
END:VEVENT
BEGIN:VEVENT
DTSTART;TZID=America/Detroit:20180428T060000
DTEND;TZID=America/Detroit:20180428T090000
DTSTAMP:20260422T072801
CREATED:20180121T200712Z
LAST-MODIFIED:20180304T033727Z
UID:1758-1524895200-1524906000@www.semno.org
SUMMARY:2018 Winter Mid-Range Prone Match
DESCRIPTION:Program:  2018 Winter Mid-Range Prone
URL:https://www.semno.org/event/2018-winter-mid-range-prone-match-9/
LOCATION:Midland County Sportsman’s Club\, 8825 Sturgeon Road\, Midland\, MI\, 48640\, United States
CATEGORIES:Mid-Range Prone
ORGANIZER;CN="Leo Cebula":MAILTO:lcebula@comcast.net
END:VEVENT
BEGIN:VEVENT
DTSTART;TZID=America/Detroit:20180421T060000
DTEND;TZID=America/Detroit:20180421T090000
DTSTAMP:20260422T072801
CREATED:20180121T200613Z
LAST-MODIFIED:20180304T033802Z
UID:1756-1524290400-1524301200@www.semno.org
SUMMARY:2018 Winter Mid-Range Prone Match
DESCRIPTION:Program:  2018 Winter Mid-Range Prone
URL:https://www.semno.org/event/2018-winter-mid-range-prone-match-8/
LOCATION:Midland County Sportsman’s Club\, 8825 Sturgeon Road\, Midland\, MI\, 48640\, United States
CATEGORIES:Mid-Range Prone
ORGANIZER;CN="Leo Cebula":MAILTO:lcebula@comcast.net
END:VEVENT
BEGIN:VEVENT
DTSTART;TZID=America/Detroit:20180407T060000
DTEND;TZID=America/Detroit:20180407T090000
DTSTAMP:20260422T072801
CREATED:20180121T200355Z
LAST-MODIFIED:20180304T033935Z
UID:1752-1523080800-1523091600@www.semno.org
SUMMARY:2018 Winter Mid-Range Prone Match
DESCRIPTION:Program:  2018 Winter Mid-Range Prone
URL:https://www.semno.org/event/2018-winter-mid-range-prone-match-6/
LOCATION:Midland County Sportsman’s Club\, 8825 Sturgeon Road\, Midland\, MI\, 48640\, United States
CATEGORIES:Mid-Range Prone
ORGANIZER;CN="Leo Cebula":MAILTO:lcebula@comcast.net
END:VEVENT
BEGIN:VEVENT
DTSTART;TZID=America/Detroit:20180331T060000
DTEND;TZID=America/Detroit:20180331T090000
DTSTAMP:20260422T072801
CREATED:20180121T195758Z
LAST-MODIFIED:20180304T034028Z
UID:1750-1522476000-1522486800@www.semno.org
SUMMARY:2018 Winter Mid-Range Prone Match
DESCRIPTION:Program:  2018 Winter Mid-Range Prone
URL:https://www.semno.org/event/2018-winter-mid-range-prone-match-5/
LOCATION:Midland County Sportsman’s Club\, 8825 Sturgeon Road\, Midland\, MI\, 48640\, United States
CATEGORIES:Mid-Range Prone
ORGANIZER;CN="Leo Cebula":MAILTO:lcebula@comcast.net
END:VEVENT
BEGIN:VEVENT
DTSTART;TZID=America/Detroit:20180324T060000
DTEND;TZID=America/Detroit:20180324T090000
DTSTAMP:20260422T072801
CREATED:20180121T195627Z
LAST-MODIFIED:20180304T034342Z
UID:1748-1521871200-1521882000@www.semno.org
SUMMARY:2018 Winter Mid-Range Prone Match
DESCRIPTION:Program:  2018 Winter Mid-Range Prone
URL:https://www.semno.org/event/2018-winter-mid-range-prone-match-4/
LOCATION:Midland County Sportsman’s Club\, 8825 Sturgeon Road\, Midland\, MI\, 48640\, United States
CATEGORIES:Mid-Range Prone
ORGANIZER;CN="Leo Cebula":MAILTO:lcebula@comcast.net
END:VEVENT
BEGIN:VEVENT
DTSTART;TZID=America/Detroit:20180317T060000
DTEND;TZID=America/Detroit:20180317T090000
DTSTAMP:20260422T072801
CREATED:20180121T195522Z
LAST-MODIFIED:20180304T034416Z
UID:1746-1521266400-1521277200@www.semno.org
SUMMARY:2018 Winter Mid-Range Prone Match
DESCRIPTION:Program:  2018 Winter Mid-Range Prone
URL:https://www.semno.org/event/2018-winter-mid-range-prone-match-3/
LOCATION:Midland County Sportsman’s Club\, 8825 Sturgeon Road\, Midland\, MI\, 48640\, United States
CATEGORIES:Mid-Range Prone
ORGANIZER;CN="Leo Cebula":MAILTO:lcebula@comcast.net
END:VEVENT
BEGIN:VEVENT
DTSTART;TZID=America/Detroit:20180310T050000
DTEND;TZID=America/Detroit:20180310T080000
DTSTAMP:20260422T072801
CREATED:20180121T195415Z
LAST-MODIFIED:20180304T034458Z
UID:1744-1520658000-1520668800@www.semno.org
SUMMARY:2018 Winter Mid-Range Prone Match
DESCRIPTION:Program:  2018 Winter Mid-Range Prone
URL:https://www.semno.org/event/2018-winter-mid-range-prone-match-2/
LOCATION:Midland County Sportsman’s Club\, 8825 Sturgeon Road\, Midland\, MI\, 48640\, United States
CATEGORIES:Mid-Range Prone
ORGANIZER;CN="Leo Cebula":MAILTO:lcebula@comcast.net
END:VEVENT
BEGIN:VEVENT
DTSTART;TZID=America/Detroit:20180303T030000
DTEND;TZID=America/Detroit:20180303T120000
DTSTAMP:20260422T072801
CREATED:20180121T194850Z
LAST-MODIFIED:20180121T194850Z
UID:1741-1520046000-1520078400@www.semno.org
SUMMARY:2018 Winter Mid-Range Prone Match
DESCRIPTION:Program:  2018 Winter Mid-Range Prone
URL:https://www.semno.org/event/2018-winter-mid-range-prone-match/
LOCATION:Midland County Sportsman’s Club\, 8825 Sturgeon Road\, Midland\, MI\, 48640\, United States
CATEGORIES:Mid-Range Prone
ORGANIZER;CN="Leo Cebula":MAILTO:lcebula@comcast.net
END:VEVENT
BEGIN:VEVENT
DTSTART;TZID=America/Detroit:20171231T050000
DTEND;TZID=America/Detroit:20171231T080000
DTSTAMP:20260422T072801
CREATED:20171228T013624Z
LAST-MODIFIED:20171228T013624Z
UID:1702-1514696400-1514707200@www.semno.org
SUMMARY:2017 New Years Eve Rifle Match
DESCRIPTION:Program:  2017 New Year’s Eve Rifle Match
URL:https://www.semno.org/event/2017-new-years-eve-rifle-match-2/
LOCATION:Midland County Sportsman’s Club\, 8825 Sturgeon Road\, Midland\, MI\, 48640\, United States
CATEGORIES:Mid-Range Prone
END:VEVENT
BEGIN:VEVENT
DTSTART;TZID=America/Detroit:20171207T050000
DTEND;TZID=America/Detroit:20171207T090000
DTSTAMP:20260422T072801
CREATED:20171207T220328Z
LAST-MODIFIED:20171207T224440Z
UID:1672-1512622800-1512637200@www.semno.org
SUMMARY:2017 New Year's Eve Rifle Match
DESCRIPTION:Program:  2017 New Year’s Eve Rifle Match
URL:https://www.semno.org/event/2017-new-years-eve-rifle-match/
LOCATION:Midland County Sportsman’s Club\, 8825 Sturgeon Road\, Midland\, MI\, 48640\, United States
CATEGORIES:Mid-Range Prone
ORGANIZER;CN="Leo Cebula":MAILTO:lcebula@comcast.net
END:VEVENT
BEGIN:VEVENT
DTSTART;TZID=America/Detroit:20171028T050000
DTEND;TZID=America/Detroit:20171028T090000
DTSTAMP:20260422T072801
CREATED:20171005T203719Z
LAST-MODIFIED:20171015T185239Z
UID:1596-1509166800-1509181200@www.semno.org
SUMMARY:2017 Halloween BSA Charity Match
DESCRIPTION:2017 Halloween BSA Charity Match
URL:https://www.semno.org/event/2017-halloween-bsa-charity-match/
LOCATION:Midland County Sportsman’s Club\, 8825 Sturgeon Road\, Midland\, MI\, 48640\, United States
CATEGORIES:Mid-Range Prone
ORGANIZER;CN="Leo Cebula":MAILTO:lcebula@comcast.net
END:VEVENT
BEGIN:VEVENT
DTSTART;TZID=America/Detroit:20171014T050000
DTEND;TZID=America/Detroit:20171014T093000
DTSTAMP:20260422T072801
CREATED:20170201T225242Z
LAST-MODIFIED:20170201T225242Z
UID:1352-1507957200-1507973400@www.semno.org
SUMMARY:Suburban Mid-Range Prone League - October
DESCRIPTION:2017 Suburban Mid-Range Prone League
URL:https://www.semno.org/event/suburban-mid-range-prone-league-october/
LOCATION:Midland County Sportsman’s Club\, 8825 Sturgeon Road\, Midland\, MI\, 48640\, United States
CATEGORIES:Mid-Range Prone
ORGANIZER;CN="Leo Cebula":MAILTO:lcebula@comcast.net
END:VEVENT
BEGIN:VEVENT
DTSTART;TZID=America/Detroit:20170923T050000
DTEND;TZID=America/Detroit:20170923T093000
DTSTAMP:20260422T072801
CREATED:20170201T225037Z
LAST-MODIFIED:20170416T175545Z
UID:1350-1506142800-1506159000@www.semno.org
SUMMARY:Suburban Mid-Range Prone League - September
DESCRIPTION:2017 Suburban Mid-Range Prone League
URL:https://www.semno.org/event/suburban-mid-range-prone-league-september/
LOCATION:Midland County Sportsman’s Club\, 8825 Sturgeon Road\, Midland\, MI\, 48640\, United States
CATEGORIES:Mid-Range Prone
ORGANIZER;CN="Leo Cebula":MAILTO:lcebula@comcast.net
END:VEVENT
BEGIN:VEVENT
DTSTART;TZID=America/Detroit:20170902T050000
DTEND;TZID=America/Detroit:20170902T110000
DTSTAMP:20260422T072801
CREATED:20170201T013546Z
LAST-MODIFIED:20170201T212854Z
UID:1335-1504328400-1504350000@www.semno.org
SUMMARY:Michigan Mid-Range Prone Championship
DESCRIPTION:2017 Michigan Mid-Range Prone Championship
URL:https://www.semno.org/event/michigan-mid-range-prone-championship-2/
LOCATION:Midland County Sportsman’s Club\, 8825 Sturgeon Road\, Midland\, MI\, 48640\, United States
CATEGORIES:Mid-Range Prone
ORGANIZER;CN="Leo Cebula":MAILTO:lcebula@comcast.net
END:VEVENT
BEGIN:VEVENT
DTSTART;TZID=America/Detroit:20170812T050000
DTEND;TZID=America/Detroit:20170812T093000
DTSTAMP:20260422T072801
CREATED:20170201T224838Z
LAST-MODIFIED:20170416T175614Z
UID:1348-1502514000-1502530200@www.semno.org
SUMMARY:Suburban Mid-Range Prone League - August
DESCRIPTION:2017 Suburban Mid-Range Prone League
URL:https://www.semno.org/event/suburban-mid-range-prone-league-august/
LOCATION:Midland County Sportsman’s Club\, 8825 Sturgeon Road\, Midland\, MI\, 48640\, United States
CATEGORIES:Mid-Range Prone
ORGANIZER;CN="Leo Cebula":MAILTO:lcebula@comcast.net
END:VEVENT
BEGIN:VEVENT
DTSTART;TZID=America/Detroit:20170715T050000
DTEND;TZID=America/Detroit:20170715T093000
DTSTAMP:20260422T072801
CREATED:20170201T224551Z
LAST-MODIFIED:20170416T175509Z
UID:1345-1500094800-1500111000@www.semno.org
SUMMARY:Suburban Mid-Range Prone League - July
DESCRIPTION:2017 Suburban Mid-Range Prone League
URL:https://www.semno.org/event/suburban-mid-range-prone-league-july/
LOCATION:Midland County Sportsman’s Club\, 8825 Sturgeon Road\, Midland\, MI\, 48640\, United States
CATEGORIES:Mid-Range Prone
ORGANIZER;CN="Leo Cebula":MAILTO:lcebula@comcast.net
END:VEVENT
BEGIN:VEVENT
DTSTART;TZID=America/Detroit:20170610T050000
DTEND;TZID=America/Detroit:20170610T093000
DTSTAMP:20260422T072801
CREATED:20170201T223954Z
LAST-MODIFIED:20170416T175642Z
UID:1341-1497070800-1497087000@www.semno.org
SUMMARY:Suburban Mid-Range Prone League - June
DESCRIPTION:2017 Suburban Mid-Range Prone League
URL:https://www.semno.org/event/suburban-mid-range-prone-league-june/
LOCATION:Midland County Sportsman’s Club\, 8825 Sturgeon Road\, Midland\, MI\, 48640\, United States
CATEGORIES:Mid-Range Prone
ORGANIZER;CN="Leo Cebula":MAILTO:lcebula@comcast.net
END:VEVENT
BEGIN:VEVENT
DTSTART;TZID=America/Detroit:20170527T050000
DTEND;TZID=America/Detroit:20170527T120000
DTSTAMP:20260422T072801
CREATED:20170201T230000Z
LAST-MODIFIED:20170201T230341Z
UID:1354-1495861200-1495886400@www.semno.org
SUMMARY:2017 Michigan Fullbore Prone Championship
DESCRIPTION:2017 Michigan Fullbore Prone Championship
URL:https://www.semno.org/event/2017-michigan-fullbore-prone-championship/
LOCATION:Midland County Sportsman’s Club\, 8825 Sturgeon Road\, Midland\, MI\, 48640\, United States
CATEGORIES:Mid-Range Prone
ORGANIZER;CN="Leo Cebula":MAILTO:lcebula@comcast.net
END:VEVENT
BEGIN:VEVENT
DTSTART;TZID=America/Detroit:20170506T050000
DTEND;TZID=America/Detroit:20170506T090000
DTSTAMP:20260422T072801
CREATED:20170201T223439Z
LAST-MODIFIED:20170416T175707Z
UID:1338-1494046800-1494061200@www.semno.org
SUMMARY:Suburban Mid-Range Prone League - May
DESCRIPTION:2017 Suburban Mid-Range Prone League
URL:https://www.semno.org/event/suburban-mid-range-prone-league-may/
LOCATION:Midland County Sportsman’s Club\, 8825 Sturgeon Road\, Midland\, MI\, 48640\, United States
CATEGORIES:Mid-Range Prone
ORGANIZER;CN="Leo Cebula":MAILTO:lcebula@comcast.net
END:VEVENT
BEGIN:VEVENT
DTSTART;TZID=America/Detroit:20170429T040000
DTEND;TZID=America/Detroit:20170429T130000
DTSTAMP:20260422T072801
CREATED:20170117T000733Z
LAST-MODIFIED:20170117T000733Z
UID:1317-1493438400-1493470800@www.semno.org
SUMMARY:2017 Winter Mid-Range Prone League
DESCRIPTION:2017 Winter Mid-Range Prone League Program
URL:https://www.semno.org/event/2017-winter-mid-range-prone-league-9/
LOCATION:Midland County Sportsman’s Club\, 8825 Sturgeon Road\, Midland\, MI\, 48640\, United States
CATEGORIES:Mid-Range Prone
ORGANIZER;CN="Leo Cebula":MAILTO:lcebula@comcast.net
END:VEVENT
BEGIN:VEVENT
DTSTART;TZID=America/Detroit:20170422T040000
DTEND;TZID=America/Detroit:20170422T130000
DTSTAMP:20260422T072801
CREATED:20170117T000625Z
LAST-MODIFIED:20170117T000625Z
UID:1315-1492833600-1492866000@www.semno.org
SUMMARY:2017 Winter Mid-Range Prone League
DESCRIPTION:2017 Winter Mid-Range Prone League Program
URL:https://www.semno.org/event/2017-winter-mid-range-prone-league-8/
LOCATION:Midland County Sportsman’s Club\, 8825 Sturgeon Road\, Midland\, MI\, 48640\, United States
CATEGORIES:Mid-Range Prone
ORGANIZER;CN="Leo Cebula":MAILTO:lcebula@comcast.net
END:VEVENT
BEGIN:VEVENT
DTSTART;TZID=America/Detroit:20170415T040000
DTEND;TZID=America/Detroit:20170415T130000
DTSTAMP:20260422T072801
CREATED:20170117T000528Z
LAST-MODIFIED:20170117T000528Z
UID:1313-1492228800-1492261200@www.semno.org
SUMMARY:2017 Winter Mid-Range Prone League
DESCRIPTION:2017 Winter Mid-Range Prone League Program
URL:https://www.semno.org/event/2017-winter-mid-range-prone-league-7/
LOCATION:Midland County Sportsman’s Club\, 8825 Sturgeon Road\, Midland\, MI\, 48640\, United States
CATEGORIES:Mid-Range Prone
ORGANIZER;CN="Leo Cebula":MAILTO:lcebula@comcast.net
END:VEVENT
BEGIN:VEVENT
DTSTART;TZID=America/Detroit:20170408T040000
DTEND;TZID=America/Detroit:20170408T130000
DTSTAMP:20260422T072801
CREATED:20170117T000425Z
LAST-MODIFIED:20170117T000425Z
UID:1311-1491624000-1491656400@www.semno.org
SUMMARY:2017 Winter Mid-Range Prone League
DESCRIPTION:2017 Winter Mid-Range Prone League Program
URL:https://www.semno.org/event/2017-winter-mid-range-prone-league-6/
LOCATION:Midland County Sportsman’s Club\, 8825 Sturgeon Road\, Midland\, MI\, 48640\, United States
CATEGORIES:Mid-Range Prone
ORGANIZER;CN="Leo Cebula":MAILTO:lcebula@comcast.net
END:VEVENT
BEGIN:VEVENT
DTSTART;TZID=America/Detroit:20170401T040000
DTEND;TZID=America/Detroit:20170401T130000
DTSTAMP:20260422T072801
CREATED:20170117T000205Z
LAST-MODIFIED:20170117T000205Z
UID:1308-1491019200-1491051600@www.semno.org
SUMMARY:2017 Winter Mid-Range Prone League
DESCRIPTION:2017 Winter Mid-Range Prone League Program
URL:https://www.semno.org/event/2017-winter-mid-range-prone-league-5/
LOCATION:Midland County Sportsman’s Club\, 8825 Sturgeon Road\, Midland\, MI\, 48640\, United States
CATEGORIES:Mid-Range Prone
ORGANIZER;CN="Leo Cebula":MAILTO:lcebula@comcast.net
END:VEVENT
BEGIN:VEVENT
DTSTART;TZID=America/Detroit:20170325T040000
DTEND;TZID=America/Detroit:20170325T130000
DTSTAMP:20260422T072801
CREATED:20170116T235921Z
LAST-MODIFIED:20170116T235921Z
UID:1306-1490414400-1490446800@www.semno.org
SUMMARY:2017 Winter Mid-Range Prone League
DESCRIPTION:2017 Winter Mid-Range Prone League Program
URL:https://www.semno.org/event/2017-winter-mid-range-prone-league-4/
LOCATION:Midland County Sportsman’s Club\, 8825 Sturgeon Road\, Midland\, MI\, 48640\, United States
CATEGORIES:Mid-Range Prone
ORGANIZER;CN="Leo Cebula":MAILTO:lcebula@comcast.net
END:VEVENT
BEGIN:VEVENT
DTSTART;TZID=America/Detroit:20170318T040000
DTEND;TZID=America/Detroit:20170318T130000
DTSTAMP:20260422T072801
CREATED:20170116T235803Z
LAST-MODIFIED:20170117T000050Z
UID:1304-1489809600-1489842000@www.semno.org
SUMMARY:2017 Winter Mid-Range Prone League
DESCRIPTION:2017 Winter Mid-Range Prone League Program
URL:https://www.semno.org/event/2017-winter-mid-range-prone-league-3/
LOCATION:Midland County Sportsman’s Club\, 8825 Sturgeon Road\, Midland\, MI\, 48640\, United States
CATEGORIES:Mid-Range Prone
ORGANIZER;CN="Leo Cebula":MAILTO:lcebula@comcast.net
END:VEVENT
BEGIN:VEVENT
DTSTART;TZID=America/Detroit:20170311T030000
DTEND;TZID=America/Detroit:20170311T120000
DTSTAMP:20260422T072801
CREATED:20170116T235648Z
LAST-MODIFIED:20170117T000008Z
UID:1302-1489201200-1489233600@www.semno.org
SUMMARY:2017 Winter Mid-Range Prone League
DESCRIPTION:2017 Winter Mid-Range Prone League Program
URL:https://www.semno.org/event/2017-winter-mid-range-prone-league-2/
LOCATION:Midland County Sportsman’s Club\, 8825 Sturgeon Road\, Midland\, MI\, 48640\, United States
CATEGORIES:Mid-Range Prone
ORGANIZER;CN="Leo Cebula":MAILTO:lcebula@comcast.net
END:VEVENT
BEGIN:VEVENT
DTSTART;TZID=America/Detroit:20170304T030000
DTEND;TZID=America/Detroit:20170304T120000
DTSTAMP:20260422T072801
CREATED:20170116T235436Z
LAST-MODIFIED:20170116T235554Z
UID:1300-1488596400-1488628800@www.semno.org
SUMMARY:2017 Winter Mid-Range Prone League
DESCRIPTION:2017 Winter Mid-Range Prone League Program
URL:https://www.semno.org/event/2017-winter-mid-range-prone-league/
LOCATION:Midland County Sportsman’s Club\, 8825 Sturgeon Road\, Midland\, MI\, 48640\, United States
CATEGORIES:Mid-Range Prone
ORGANIZER;CN="Leo Cebula":MAILTO:lcebula@comcast.net
END:VEVENT
BEGIN:VEVENT
DTSTART;TZID=America/Detroit:20161231T050000
DTEND;TZID=America/Detroit:20161231T080000
DTSTAMP:20260422T072801
CREATED:20161207T202521Z
LAST-MODIFIED:20161207T202728Z
UID:1227-1483160400-1483171200@www.semno.org
SUMMARY:2016 New Year's Eve Match
DESCRIPTION:2016 New Year’s Eve Rifle Match
URL:https://www.semno.org/event/2016-new-years-eve-match/
LOCATION:Midland County Sportsman’s Club\, 8825 Sturgeon Road\, Midland\, MI\, 48640\, United States
CATEGORIES:Mid-Range Prone
ORGANIZER;CN="Leo Cebula":MAILTO:lcebula@comcast.net
END:VEVENT
END:VCALENDAR