BEGIN:VCALENDAR
VERSION:2.0
PRODID:-//SEMNO High Masters Shooting Team - ECPv6.15.20//NONSGML v1.0//EN
CALSCALE:GREGORIAN
METHOD:PUBLISH
X-WR-CALNAME:SEMNO High Masters Shooting Team
X-ORIGINAL-URL:https://www.semno.org
X-WR-CALDESC:Events for SEMNO High Masters Shooting Team
REFRESH-INTERVAL;VALUE=DURATION:PT1H
X-Robots-Tag:noindex
X-PUBLISHED-TTL:PT1H
BEGIN:VTIMEZONE
TZID:America/Detroit
BEGIN:DAYLIGHT
TZOFFSETFROM:-0500
TZOFFSETTO:-0400
TZNAME:EDT
DTSTART:20160313T070000
END:DAYLIGHT
BEGIN:STANDARD
TZOFFSETFROM:-0400
TZOFFSETTO:-0500
TZNAME:EST
DTSTART:20161106T060000
END:STANDARD
BEGIN:DAYLIGHT
TZOFFSETFROM:-0500
TZOFFSETTO:-0400
TZNAME:EDT
DTSTART:20170312T070000
END:DAYLIGHT
BEGIN:STANDARD
TZOFFSETFROM:-0400
TZOFFSETTO:-0500
TZNAME:EST
DTSTART:20171105T060000
END:STANDARD
BEGIN:DAYLIGHT
TZOFFSETFROM:-0500
TZOFFSETTO:-0400
TZNAME:EDT
DTSTART:20180311T070000
END:DAYLIGHT
BEGIN:STANDARD
TZOFFSETFROM:-0400
TZOFFSETTO:-0500
TZNAME:EST
DTSTART:20181104T060000
END:STANDARD
BEGIN:DAYLIGHT
TZOFFSETFROM:-0500
TZOFFSETTO:-0400
TZNAME:EDT
DTSTART:20190310T070000
END:DAYLIGHT
BEGIN:STANDARD
TZOFFSETFROM:-0400
TZOFFSETTO:-0500
TZNAME:EST
DTSTART:20191103T060000
END:STANDARD
BEGIN:DAYLIGHT
TZOFFSETFROM:-0500
TZOFFSETTO:-0400
TZNAME:EDT
DTSTART:20200308T070000
END:DAYLIGHT
BEGIN:STANDARD
TZOFFSETFROM:-0400
TZOFFSETTO:-0500
TZNAME:EST
DTSTART:20201101T060000
END:STANDARD
END:VTIMEZONE
BEGIN:VEVENT
DTSTART;TZID=America/Detroit:20190511T050000
DTEND;TZID=America/Detroit:20190511T093000
DTSTAMP:20260422T044546
CREATED:20190111T001906Z
LAST-MODIFIED:20190319T185153Z
UID:2148-1557550800-1557567000@www.semno.org
SUMMARY:2019 Suburban Mid-Range Prone League
DESCRIPTION:Program:  2019 Suburban Mid-Range Prone Championship
URL:https://www.semno.org/event/2019-suburban-mid-range-prone-league/
LOCATION:Midland County Sportsman’s Club\, 8825 Sturgeon Road\, Midland\, MI\, 48640\, United States
CATEGORIES:Mid-Range Prone
ATTACH;FMTTYPE=image/jpeg:https://www.semno.org/wp-content/uploads/2018/10/Joshmooresling.jpg
ORGANIZER;CN="Leo Cebula":MAILTO:lcebula@comcast.net
END:VEVENT
BEGIN:VEVENT
DTSTART;TZID=America/Detroit:20190427T060000
DTEND;TZID=America/Detroit:20190427T090000
DTSTAMP:20260422T044546
CREATED:20181210T014921Z
LAST-MODIFIED:20190111T222329Z
UID:2093-1556344800-1556355600@www.semno.org
SUMMARY:2019 Winter Mid-Range Prone League
DESCRIPTION:Program:  2019 Winter Mid-Range Prone League Program
URL:https://www.semno.org/event/2019-winter-mid-range-prone-league-8/
LOCATION:Midland County Sportsman’s Club\, 8825 Sturgeon Road\, Midland\, MI\, 48640\, United States
CATEGORIES:Mid-Range Prone
ATTACH;FMTTYPE=image/jpeg:https://www.semno.org/wp-content/uploads/2019/01/2019-NYE-Wieczorek.jpg
ORGANIZER;CN="Leo Cebula":MAILTO:lcebula@comcast.net
END:VEVENT
BEGIN:VEVENT
DTSTART;TZID=America/Detroit:20190420T060000
DTEND;TZID=America/Detroit:20190420T090000
DTSTAMP:20260422T044546
CREATED:20181210T014808Z
LAST-MODIFIED:20181210T014808Z
UID:2091-1555740000-1555750800@www.semno.org
SUMMARY:2019 Winter Mid-Range Prone League
DESCRIPTION:Program:  2019 Winter Mid-Range Prone League Program
URL:https://www.semno.org/event/2019-winter-mid-range-prone-league-7/
LOCATION:Midland County Sportsman’s Club\, 8825 Sturgeon Road\, Midland\, MI\, 48640\, United States
CATEGORIES:Mid-Range Prone
ORGANIZER;CN="Leo Cebula":MAILTO:lcebula@comcast.net
END:VEVENT
BEGIN:VEVENT
DTSTART;TZID=America/Detroit:20190413T060000
DTEND;TZID=America/Detroit:20190413T090000
DTSTAMP:20260422T044546
CREATED:20181210T014654Z
LAST-MODIFIED:20181210T014654Z
UID:2089-1555135200-1555146000@www.semno.org
SUMMARY:2019 Winter Mid-Range Prone League
DESCRIPTION:Program:  2019 Winter Mid-Range Prone League Program
URL:https://www.semno.org/event/2019-winter-mid-range-prone-league-6/
LOCATION:Midland County Sportsman’s Club\, 8825 Sturgeon Road\, Midland\, MI\, 48640\, United States
CATEGORIES:Mid-Range Prone
ORGANIZER;CN="Leo Cebula":MAILTO:lcebula@comcast.net
END:VEVENT
BEGIN:VEVENT
DTSTART;TZID=America/Detroit:20190406T060000
DTEND;TZID=America/Detroit:20190406T090000
DTSTAMP:20260422T044546
CREATED:20181210T014536Z
LAST-MODIFIED:20181210T014536Z
UID:2087-1554530400-1554541200@www.semno.org
SUMMARY:2019 Winter Mid-Range Prone League
DESCRIPTION:Program:  2019 Winter Mid-Range Prone League Program
URL:https://www.semno.org/event/2019-winter-mid-range-prone-league-5/
LOCATION:Midland County Sportsman’s Club\, 8825 Sturgeon Road\, Midland\, MI\, 48640\, United States
CATEGORIES:Mid-Range Prone
ORGANIZER;CN="Leo Cebula":MAILTO:lcebula@comcast.net
END:VEVENT
BEGIN:VEVENT
DTSTART;TZID=America/Detroit:20190330T060000
DTEND;TZID=America/Detroit:20190330T090000
DTSTAMP:20260422T044546
CREATED:20181209T234626Z
LAST-MODIFIED:20181209T234626Z
UID:2085-1553925600-1553936400@www.semno.org
SUMMARY:2019 Winter Mid-Range Prone League
DESCRIPTION:Program:  2019 Winter Mid-Range Prone League Program
URL:https://www.semno.org/event/2019-winter-mid-range-prone-league-4/
LOCATION:Midland County Sportsman’s Club\, 8825 Sturgeon Road\, Midland\, MI\, 48640\, United States
CATEGORIES:Mid-Range Prone
ORGANIZER;CN="Leo Cebula":MAILTO:lcebula@comcast.net
END:VEVENT
BEGIN:VEVENT
DTSTART;TZID=America/Detroit:20190323T060000
DTEND;TZID=America/Detroit:20190323T090000
DTSTAMP:20260422T044546
CREATED:20190316T201806Z
LAST-MODIFIED:20190316T201806Z
UID:2267-1553320800-1553331600@www.semno.org
SUMMARY:2019 Winter Mid-Range Prone League
DESCRIPTION:Program:  2019 Winter Mid-Range Prone League Program
URL:https://www.semno.org/event/2019-winter-mid-range-prone-league-9/
LOCATION:Midland County Sportsman’s Club\, 8825 Sturgeon Road\, Midland\, MI\, 48640\, United States
CATEGORIES:Mid-Range Prone
ORGANIZER;CN="Leo Cebula":MAILTO:lcebula@comcast.net
END:VEVENT
BEGIN:VEVENT
DTSTART;TZID=America/Detroit:20190316T060000
DTEND;TZID=America/Detroit:20190316T090000
DTSTAMP:20260422T044546
CREATED:20181209T233820Z
LAST-MODIFIED:20181209T233820Z
UID:2082-1552716000-1552726800@www.semno.org
SUMMARY:2019 Winter Mid-Range Prone League
DESCRIPTION:Program:  2019 Winter Mid-Range Prone League Program
URL:https://www.semno.org/event/2019-winter-mid-range-prone-league-3/
LOCATION:Midland County Sportsman’s Club\, 8825 Sturgeon Road\, Midland\, MI\, 48640\, United States
CATEGORIES:Mid-Range Prone
ORGANIZER;CN="Leo Cebula":MAILTO:lcebula@comcast.net
END:VEVENT
BEGIN:VEVENT
DTSTART;TZID=America/Detroit:20190309T050000
DTEND;TZID=America/Detroit:20190309T080000
DTSTAMP:20260422T044546
CREATED:20181209T233222Z
LAST-MODIFIED:20181209T233222Z
UID:2080-1552107600-1552118400@www.semno.org
SUMMARY:2019 Winter Mid-Range Prone League
DESCRIPTION:Program:  2019 Winter Mid-Range Prone League Program
URL:https://www.semno.org/event/2019-winter-mid-range-prone-league-2/
LOCATION:Midland County Sportsman’s Club\, 8825 Sturgeon Road\, Midland\, MI\, 48640\, United States
CATEGORIES:Mid-Range Prone
ORGANIZER;CN="Leo Cebula":MAILTO:lcebula@comcast.net
END:VEVENT
BEGIN:VEVENT
DTSTART;TZID=America/Detroit:20190302T050000
DTEND;TZID=America/Detroit:20190302T080000
DTSTAMP:20260422T044546
CREATED:20181209T233104Z
LAST-MODIFIED:20181209T233104Z
UID:2077-1551502800-1551513600@www.semno.org
SUMMARY:2019 Winter Mid-Range Prone League
DESCRIPTION:Program:  2019 Winter Mid-Range Prone League Program
URL:https://www.semno.org/event/2019-winter-mid-range-prone-league/
LOCATION:Midland County Sportsman’s Club\, 8825 Sturgeon Road\, Midland\, MI\, 48640\, United States
CATEGORIES:Mid-Range Prone
ORGANIZER;CN="Leo Cebula":MAILTO:lcebula@comcast.net
END:VEVENT
BEGIN:VEVENT
DTSTART;TZID=America/Detroit:20181231T050000
DTEND;TZID=America/Detroit:20181231T080000
DTSTAMP:20260422T044546
CREATED:20181224T233608Z
LAST-MODIFIED:20181224T233608Z
UID:2123-1546232400-1546243200@www.semno.org
SUMMARY:2018 New Year's Eve Rifle Match
DESCRIPTION:Program:  2018 New Year’s Eve Rifle Match
URL:https://www.semno.org/event/2018-new-years-eve-rifle-match/
LOCATION:Midland County Sportsman’s Club\, 8825 Sturgeon Road\, Midland\, MI\, 48640\, United States
CATEGORIES:Mid-Range Prone
ORGANIZER;CN="Leo Cebula":MAILTO:lcebula@comcast.net
END:VEVENT
BEGIN:VEVENT
DTSTART;TZID=America/Detroit:20181215T050000
DTEND;TZID=America/Detroit:20181215T080000
DTSTAMP:20260422T044546
CREATED:20181212T000701Z
LAST-MODIFIED:20181212T000701Z
UID:2103-1544850000-1544860800@www.semno.org
SUMMARY:2018 Pre-New Year's Eve Rifle Match
DESCRIPTION:Program:  2018 Pre-New Year’s Eve Rifle Match
URL:https://www.semno.org/event/2018-pre-new-years-eve-rifle-match/
LOCATION:Midland County Sportsman’s Club\, 8825 Sturgeon Road\, Midland\, MI\, 48640\, United States
CATEGORIES:Mid-Range Prone
ORGANIZER;CN="Leo Cebula":MAILTO:lcebula@comcast.net
END:VEVENT
BEGIN:VEVENT
DTSTART;TZID=America/Detroit:20181123T050000
DTEND;TZID=America/Detroit:20181123T080000
DTSTAMP:20260422T044546
CREATED:20180122T004330Z
LAST-MODIFIED:20181121T222557Z
UID:1780-1542949200-1542960000@www.semno.org
SUMMARY:2018 Annual Foul Weather Rifle Match
DESCRIPTION:Program: 2018 Annual Foul Weather Rifle Match \n 
URL:https://www.semno.org/event/2018-annual-foul-weather-rifle-match/
LOCATION:Midland County Sportsman’s Club\, 8825 Sturgeon Road\, Midland\, MI\, 48640\, United States
CATEGORIES:Mid-Range Prone
ORGANIZER;CN="Leo Cebula":MAILTO:lcebula@comcast.net
END:VEVENT
BEGIN:VEVENT
DTSTART;TZID=America/Detroit:20181103T050000
DTEND;TZID=America/Detroit:20181103T110000
DTSTAMP:20260422T044546
CREATED:20180926T230335Z
LAST-MODIFIED:20180927T020655Z
UID:1979-1541221200-1541242800@www.semno.org
SUMMARY:2018 BSA Halloween Charity Match
DESCRIPTION:2018 Halloween BSA Charity Match
URL:https://www.semno.org/event/2018-bsa-halloween-charity-match/
LOCATION:Midland County Sportsman’s Club\, 8825 Sturgeon Road\, Midland\, MI\, 48640\, United States
CATEGORIES:Mid-Range Prone
ATTACH;FMTTYPE=image/jpeg:https://www.semno.org/wp-content/uploads/2015/11/IMG_0809-e1448762402481.jpg
ORGANIZER;CN="Leo Cebula":MAILTO:lcebula@comcast.net
END:VEVENT
BEGIN:VEVENT
DTSTART;TZID=America/Detroit:20181013T050000
DTEND;TZID=America/Detroit:20181013T090000
DTSTAMP:20260422T044546
CREATED:20180122T003021Z
LAST-MODIFIED:20180304T032729Z
UID:1778-1539406800-1539421200@www.semno.org
SUMMARY:2018 Suburban Mid-Range Prone League
DESCRIPTION:Program:  2018 Suburban Mid-Range Prone League
URL:https://www.semno.org/event/2018-suburban-mid-range-prone-league-6/
LOCATION:Midland County Sportsman’s Club\, 8825 Sturgeon Road\, Midland\, MI\, 48640\, United States
CATEGORIES:Mid-Range Prone
ORGANIZER;CN="Leo Cebula":MAILTO:lcebula@comcast.net
END:VEVENT
BEGIN:VEVENT
DTSTART;TZID=America/Detroit:20180922T050000
DTEND;TZID=America/Detroit:20180922T090000
DTSTAMP:20260422T044546
CREATED:20180122T002902Z
LAST-MODIFIED:20180304T042308Z
UID:1776-1537592400-1537606800@www.semno.org
SUMMARY:2018 Suburban Mid-Range Prone League
DESCRIPTION:Program:  2018 Suburban Mid-Range Prone League
URL:https://www.semno.org/event/2018-suburban-mid-range-prone-league-5/
LOCATION:Midland County Sportsman’s Club\, 8825 Sturgeon Road\, Midland\, MI\, 48640\, United States
CATEGORIES:Mid-Range Prone
ORGANIZER;CN="Leo Cebula":MAILTO:lcebula@comcast.net
END:VEVENT
BEGIN:VEVENT
DTSTART;TZID=America/Detroit:20180901T050000
DTEND;TZID=America/Detroit:20180901T130000
DTSTAMP:20260422T044546
CREATED:20180121T203624Z
LAST-MODIFIED:20180816T210530Z
UID:1763-1535778000-1535806800@www.semno.org
SUMMARY:2018 Michigan Mid-Range Prone Championship
DESCRIPTION:Program: 2018 Michigan Mid-Range Prone Championship
URL:https://www.semno.org/event/2018-michigan-mid-range-prone-championship/
LOCATION:Midland County Sportsman’s Club\, 8825 Sturgeon Road\, Midland\, MI\, 48640\, United States
CATEGORIES:Mid-Range Prone
ORGANIZER;CN="Leo Cebula":MAILTO:lcebula@comcast.net
END:VEVENT
BEGIN:VEVENT
DTSTART;TZID=America/Detroit:20180811T050000
DTEND;TZID=America/Detroit:20180811T090000
DTSTAMP:20260422T044546
CREATED:20180304T035145Z
LAST-MODIFIED:20180304T042030Z
UID:1825-1533963600-1533978000@www.semno.org
SUMMARY:Suburban Mid-Range Prone
DESCRIPTION:2018 Suburban Mid-Range Prone League
URL:https://www.semno.org/event/suburban-mid-range-prone/
LOCATION:Midland County Sportsman’s Club\, 8825 Sturgeon Road\, Midland\, MI\, 48640\, United States
CATEGORIES:Mid-Range Prone
ORGANIZER;CN="Leo Cebula":MAILTO:lcebula@comcast.net
END:VEVENT
BEGIN:VEVENT
DTSTART;TZID=America/Detroit:20180714T050000
DTEND;TZID=America/Detroit:20180714T090000
DTSTAMP:20260422T044546
CREATED:20180122T002628Z
LAST-MODIFIED:20180304T033043Z
UID:1772-1531544400-1531558800@www.semno.org
SUMMARY:2018 Suburban Mid-Range Prone League
DESCRIPTION:Program:  2018 Suburban Mid-Range Prone League
URL:https://www.semno.org/event/2018-suburban-mid-range-prone-league-3/
LOCATION:Midland County Sportsman’s Club\, 8825 Sturgeon Road\, Midland\, MI\, 48640\, United States
CATEGORIES:Mid-Range Prone
ORGANIZER;CN="Leo Cebula":MAILTO:lcebula@comcast.net
END:VEVENT
BEGIN:VEVENT
DTSTART;TZID=America/Detroit:20180602T050000
DTEND;TZID=America/Detroit:20180602T090000
DTSTAMP:20260422T044546
CREATED:20180122T002512Z
LAST-MODIFIED:20180304T033122Z
UID:1770-1527915600-1527930000@www.semno.org
SUMMARY:2018 Suburban Mid-Range Prone League
DESCRIPTION:Program:  2018 Suburban Mid-Range Prone League
URL:https://www.semno.org/event/2018-suburban-mid-range-prone-league-2/
LOCATION:Midland County Sportsman’s Club\, 8825 Sturgeon Road\, Midland\, MI\, 48640\, United States
CATEGORIES:Mid-Range Prone
ORGANIZER;CN="Leo Cebula":MAILTO:lcebula@comcast.net
END:VEVENT
BEGIN:VEVENT
DTSTART;TZID=America/Detroit:20180512T050000
DTEND;TZID=America/Detroit:20180512T090000
DTSTAMP:20260422T044546
CREATED:20180122T002351Z
LAST-MODIFIED:20180304T033648Z
UID:1766-1526101200-1526115600@www.semno.org
SUMMARY:2018 Suburban Mid-Range Prone League
DESCRIPTION:Program:  2018 Suburban Mid-Range Prone League
URL:https://www.semno.org/event/2018-suburban-mid-range-prone-league/
LOCATION:Midland County Sportsman’s Club\, 8825 Sturgeon Road\, Midland\, MI\, 48640\, United States
CATEGORIES:Mid-Range Prone
ORGANIZER;CN="Leo Cebula":MAILTO:lcebula@comcast.net
END:VEVENT
BEGIN:VEVENT
DTSTART;TZID=America/Detroit:20180428T060000
DTEND;TZID=America/Detroit:20180428T090000
DTSTAMP:20260422T044546
CREATED:20180121T200712Z
LAST-MODIFIED:20180304T033727Z
UID:1758-1524895200-1524906000@www.semno.org
SUMMARY:2018 Winter Mid-Range Prone Match
DESCRIPTION:Program:  2018 Winter Mid-Range Prone
URL:https://www.semno.org/event/2018-winter-mid-range-prone-match-9/
LOCATION:Midland County Sportsman’s Club\, 8825 Sturgeon Road\, Midland\, MI\, 48640\, United States
CATEGORIES:Mid-Range Prone
ORGANIZER;CN="Leo Cebula":MAILTO:lcebula@comcast.net
END:VEVENT
BEGIN:VEVENT
DTSTART;TZID=America/Detroit:20180421T060000
DTEND;TZID=America/Detroit:20180421T090000
DTSTAMP:20260422T044546
CREATED:20180121T200613Z
LAST-MODIFIED:20180304T033802Z
UID:1756-1524290400-1524301200@www.semno.org
SUMMARY:2018 Winter Mid-Range Prone Match
DESCRIPTION:Program:  2018 Winter Mid-Range Prone
URL:https://www.semno.org/event/2018-winter-mid-range-prone-match-8/
LOCATION:Midland County Sportsman’s Club\, 8825 Sturgeon Road\, Midland\, MI\, 48640\, United States
CATEGORIES:Mid-Range Prone
ORGANIZER;CN="Leo Cebula":MAILTO:lcebula@comcast.net
END:VEVENT
BEGIN:VEVENT
DTSTART;TZID=America/Detroit:20180407T060000
DTEND;TZID=America/Detroit:20180407T090000
DTSTAMP:20260422T044546
CREATED:20180121T200355Z
LAST-MODIFIED:20180304T033935Z
UID:1752-1523080800-1523091600@www.semno.org
SUMMARY:2018 Winter Mid-Range Prone Match
DESCRIPTION:Program:  2018 Winter Mid-Range Prone
URL:https://www.semno.org/event/2018-winter-mid-range-prone-match-6/
LOCATION:Midland County Sportsman’s Club\, 8825 Sturgeon Road\, Midland\, MI\, 48640\, United States
CATEGORIES:Mid-Range Prone
ORGANIZER;CN="Leo Cebula":MAILTO:lcebula@comcast.net
END:VEVENT
BEGIN:VEVENT
DTSTART;TZID=America/Detroit:20180331T060000
DTEND;TZID=America/Detroit:20180331T090000
DTSTAMP:20260422T044546
CREATED:20180121T195758Z
LAST-MODIFIED:20180304T034028Z
UID:1750-1522476000-1522486800@www.semno.org
SUMMARY:2018 Winter Mid-Range Prone Match
DESCRIPTION:Program:  2018 Winter Mid-Range Prone
URL:https://www.semno.org/event/2018-winter-mid-range-prone-match-5/
LOCATION:Midland County Sportsman’s Club\, 8825 Sturgeon Road\, Midland\, MI\, 48640\, United States
CATEGORIES:Mid-Range Prone
ORGANIZER;CN="Leo Cebula":MAILTO:lcebula@comcast.net
END:VEVENT
BEGIN:VEVENT
DTSTART;TZID=America/Detroit:20180324T060000
DTEND;TZID=America/Detroit:20180324T090000
DTSTAMP:20260422T044546
CREATED:20180121T195627Z
LAST-MODIFIED:20180304T034342Z
UID:1748-1521871200-1521882000@www.semno.org
SUMMARY:2018 Winter Mid-Range Prone Match
DESCRIPTION:Program:  2018 Winter Mid-Range Prone
URL:https://www.semno.org/event/2018-winter-mid-range-prone-match-4/
LOCATION:Midland County Sportsman’s Club\, 8825 Sturgeon Road\, Midland\, MI\, 48640\, United States
CATEGORIES:Mid-Range Prone
ORGANIZER;CN="Leo Cebula":MAILTO:lcebula@comcast.net
END:VEVENT
BEGIN:VEVENT
DTSTART;TZID=America/Detroit:20180317T060000
DTEND;TZID=America/Detroit:20180317T090000
DTSTAMP:20260422T044546
CREATED:20180121T195522Z
LAST-MODIFIED:20180304T034416Z
UID:1746-1521266400-1521277200@www.semno.org
SUMMARY:2018 Winter Mid-Range Prone Match
DESCRIPTION:Program:  2018 Winter Mid-Range Prone
URL:https://www.semno.org/event/2018-winter-mid-range-prone-match-3/
LOCATION:Midland County Sportsman’s Club\, 8825 Sturgeon Road\, Midland\, MI\, 48640\, United States
CATEGORIES:Mid-Range Prone
ORGANIZER;CN="Leo Cebula":MAILTO:lcebula@comcast.net
END:VEVENT
BEGIN:VEVENT
DTSTART;TZID=America/Detroit:20180310T050000
DTEND;TZID=America/Detroit:20180310T080000
DTSTAMP:20260422T044546
CREATED:20180121T195415Z
LAST-MODIFIED:20180304T034458Z
UID:1744-1520658000-1520668800@www.semno.org
SUMMARY:2018 Winter Mid-Range Prone Match
DESCRIPTION:Program:  2018 Winter Mid-Range Prone
URL:https://www.semno.org/event/2018-winter-mid-range-prone-match-2/
LOCATION:Midland County Sportsman’s Club\, 8825 Sturgeon Road\, Midland\, MI\, 48640\, United States
CATEGORIES:Mid-Range Prone
ORGANIZER;CN="Leo Cebula":MAILTO:lcebula@comcast.net
END:VEVENT
BEGIN:VEVENT
DTSTART;TZID=America/Detroit:20180303T030000
DTEND;TZID=America/Detroit:20180303T120000
DTSTAMP:20260422T044546
CREATED:20180121T194850Z
LAST-MODIFIED:20180121T194850Z
UID:1741-1520046000-1520078400@www.semno.org
SUMMARY:2018 Winter Mid-Range Prone Match
DESCRIPTION:Program:  2018 Winter Mid-Range Prone
URL:https://www.semno.org/event/2018-winter-mid-range-prone-match/
LOCATION:Midland County Sportsman’s Club\, 8825 Sturgeon Road\, Midland\, MI\, 48640\, United States
CATEGORIES:Mid-Range Prone
ORGANIZER;CN="Leo Cebula":MAILTO:lcebula@comcast.net
END:VEVENT
BEGIN:VEVENT
DTSTART;TZID=America/Detroit:20171231T050000
DTEND;TZID=America/Detroit:20171231T080000
DTSTAMP:20260422T044546
CREATED:20171228T013624Z
LAST-MODIFIED:20171228T013624Z
UID:1702-1514696400-1514707200@www.semno.org
SUMMARY:2017 New Years Eve Rifle Match
DESCRIPTION:Program:  2017 New Year’s Eve Rifle Match
URL:https://www.semno.org/event/2017-new-years-eve-rifle-match-2/
LOCATION:Midland County Sportsman’s Club\, 8825 Sturgeon Road\, Midland\, MI\, 48640\, United States
CATEGORIES:Mid-Range Prone
END:VEVENT
END:VCALENDAR