BEGIN:VCALENDAR
VERSION:2.0
PRODID:-//SEMNO High Masters Shooting Team - ECPv6.15.20//NONSGML v1.0//EN
CALSCALE:GREGORIAN
METHOD:PUBLISH
X-WR-CALNAME:SEMNO High Masters Shooting Team
X-ORIGINAL-URL:https://www.semno.org
X-WR-CALDESC:Events for SEMNO High Masters Shooting Team
REFRESH-INTERVAL;VALUE=DURATION:PT1H
X-Robots-Tag:noindex
X-PUBLISHED-TTL:PT1H
BEGIN:VTIMEZONE
TZID:America/Detroit
BEGIN:DAYLIGHT
TZOFFSETFROM:-0500
TZOFFSETTO:-0400
TZNAME:EDT
DTSTART:20230312T070000
END:DAYLIGHT
BEGIN:STANDARD
TZOFFSETFROM:-0400
TZOFFSETTO:-0500
TZNAME:EST
DTSTART:20231105T060000
END:STANDARD
BEGIN:DAYLIGHT
TZOFFSETFROM:-0500
TZOFFSETTO:-0400
TZNAME:EDT
DTSTART:20240310T070000
END:DAYLIGHT
BEGIN:STANDARD
TZOFFSETFROM:-0400
TZOFFSETTO:-0500
TZNAME:EST
DTSTART:20241103T060000
END:STANDARD
BEGIN:DAYLIGHT
TZOFFSETFROM:-0500
TZOFFSETTO:-0400
TZNAME:EDT
DTSTART:20250309T070000
END:DAYLIGHT
BEGIN:STANDARD
TZOFFSETFROM:-0400
TZOFFSETTO:-0500
TZNAME:EST
DTSTART:20251102T060000
END:STANDARD
BEGIN:DAYLIGHT
TZOFFSETFROM:-0500
TZOFFSETTO:-0400
TZNAME:EDT
DTSTART:20260308T070000
END:DAYLIGHT
BEGIN:STANDARD
TZOFFSETFROM:-0400
TZOFFSETTO:-0500
TZNAME:EST
DTSTART:20261101T060000
END:STANDARD
END:VTIMEZONE
BEGIN:VEVENT
DTSTART;TZID=America/Detroit:20251106T173000
DTEND;TZID=America/Detroit:20251106T200000
DTSTAMP:20260421T222810
CREATED:20251101T174812Z
LAST-MODIFIED:20251101T174812Z
UID:4841-1762450200-1762459200@www.semno.org
SUMMARY:2025-2026 Snow Country English Match Series - Grand Rapids
DESCRIPTION:2025-2026 Snow Country English Match Series
URL:https://www.semno.org/event/2025-2026-snow-country-english-match-series-grand-rapids-2/
LOCATION:Grand Rapids Rifle and Pistol Club\, 1331 Nagel AVE SW\, Wyoming\, MI\, 49509\, United States
CATEGORIES:Indoor Smallbore Prone
ATTACH;FMTTYPE=image/jpeg:https://www.semno.org/wp-content/uploads/2025/04/Cam-Zwart.jpeg
ORGANIZER;CN="Cameron Zwart":MAILTO:zwartcam@gvsu.edu
END:VEVENT
BEGIN:VEVENT
DTSTART;TZID=America/Detroit:20251025T090000
DTEND;TZID=America/Detroit:20251025T130000
DTSTAMP:20260421T222810
CREATED:20251003T131053Z
LAST-MODIFIED:20251014T131338Z
UID:4761-1761382800-1761397200@www.semno.org
SUMMARY:2025-2026 Snow Country English Match Series - BWSA Practice
DESCRIPTION:2025-2026 Snow Country English Match Series
URL:https://www.semno.org/event/2025-2026-snow-country-english-match-series-bwsa/
LOCATION:BWSA\, 4866 Ravenswood Road\, Kimball\, MI\, 48074\, United States
CATEGORIES:Indoor Smallbore Prone
ATTACH;FMTTYPE=image/jpeg:https://www.semno.org/wp-content/uploads/2025/04/Matt-Wieczorek.jpeg
ORGANIZER;CN="Matt Wieczorek":MAILTO:mwieczorek223@gmail.com
END:VEVENT
BEGIN:VEVENT
DTSTART;TZID=America/Detroit:20250329T090000
DTEND;TZID=America/Detroit:20250329T120000
DTSTAMP:20260421T222810
CREATED:20240928T211118Z
LAST-MODIFIED:20240928T211118Z
UID:4368-1743238800-1743249600@www.semno.org
SUMMARY:2024-2025 Snow Country English Match Series - Muskegon
DESCRIPTION:2024-2025 Snow Country English Match Series
URL:https://www.semno.org/event/2024-2025-snow-country-english-match-series-muskegon-6/
LOCATION:Muskegon Pistol and Rifle Club\, 5345 S. Quarterline Road\, Muskegon\, MI\, 49444\, United States
CATEGORIES:Indoor Smallbore Prone
ATTACH;FMTTYPE=image/jpeg:https://www.semno.org/wp-content/uploads/2024/04/Eric-Moe-scaled.jpg
ORGANIZER;CN="Steve Fenske":MAILTO:steve.fenske@gmail.com
END:VEVENT
BEGIN:VEVENT
DTSTART;TZID=America/Detroit:20250327T170000
DTEND;TZID=America/Detroit:20250327T200000
DTSTAMP:20260421T222810
CREATED:20240919T145814Z
LAST-MODIFIED:20240919T145814Z
UID:4350-1743094800-1743105600@www.semno.org
SUMMARY:Snow Country English Match Series - Grand Rapids
DESCRIPTION:2024-2025 Snow Country English Match Series
URL:https://www.semno.org/event/snow-country-english-match-series-grand-rapids/
LOCATION:Grand Rapids Rifle and Pistol Club\, 1331 Nagel AVE SW\, Wyoming\, MI\, 49509\, United States
CATEGORIES:Indoor Smallbore Prone
ATTACH;FMTTYPE=image/jpeg:https://www.semno.org/wp-content/uploads/2024/04/Tim-Sarchett-scaled.jpg
ORGANIZER;CN="Cameron Zwart":MAILTO:zwartcam@gvsu.edu
END:VEVENT
BEGIN:VEVENT
DTSTART;TZID=America/Detroit:20250322T080000
DTEND;TZID=America/Detroit:20250322T120000
DTSTAMP:20260421T222810
CREATED:20240919T145644Z
LAST-MODIFIED:20240919T145644Z
UID:4348-1742630400-1742644800@www.semno.org
SUMMARY:2024-2025 Snow Country English Match Series - Monroe
DESCRIPTION:2024-2025 Snow Country English Match Series
URL:https://www.semno.org/event/2024-2025-snow-country-english-match-series-monroe-8/
LOCATION:Monroe Rifle and Pistol Club\, 1220 Yensch Road\, Dundee\, MI\, 48131\, United States
CATEGORIES:Indoor Smallbore Prone
ATTACH;FMTTYPE=image/jpeg:https://www.semno.org/wp-content/uploads/2024/04/Dan-Altman-scaled.jpg
ORGANIZER;CN="Jamie Root":MAILTO:jaroot@jarootfarms.com
END:VEVENT
BEGIN:VEVENT
DTSTART;TZID=America/Detroit:20250315T090000
DTEND;TZID=America/Detroit:20250315T120000
DTSTAMP:20260421T222810
CREATED:20240928T210956Z
LAST-MODIFIED:20240928T210956Z
UID:4366-1742029200-1742040000@www.semno.org
SUMMARY:2024-2025 Snow Country English Match Series - Muskegon
DESCRIPTION:2024-2025 Snow Country English Match Series
URL:https://www.semno.org/event/2024-2025-snow-country-english-match-series-muskegon-5/
LOCATION:Muskegon Pistol and Rifle Club\, 5345 S. Quarterline Road\, Muskegon\, MI\, 49444\, United States
CATEGORIES:Indoor Smallbore Prone
ATTACH;FMTTYPE=image/jpeg:https://www.semno.org/wp-content/uploads/2024/04/Wayne-Haase-scaled.jpg
ORGANIZER;CN="Steve Fenske":MAILTO:steve.fenske@gmail.com
END:VEVENT
BEGIN:VEVENT
DTSTART;TZID=America/Detroit:20250308T090000
DTEND;TZID=America/Detroit:20250308T130000
DTSTAMP:20260421T222810
CREATED:20241109T014558Z
LAST-MODIFIED:20241109T014558Z
UID:4403-1741424400-1741438800@www.semno.org
SUMMARY:2024-2025 Snow Country English Match - BWSA
DESCRIPTION:2024-2025 Snow Country English Match Series
URL:https://www.semno.org/event/2024-2025-snow-country-english-match-bwsa/
LOCATION:BWSA\, 4866 Ravenswood Road\, Kimball\, MI\, 48074\, United States
CATEGORIES:Indoor Smallbore Prone
ORGANIZER;CN="Matt Wieczorek":MAILTO:mwieczorek223@gmail.com
END:VEVENT
BEGIN:VEVENT
DTSTART;TZID=America/Detroit:20250308T090000
DTEND;TZID=America/Detroit:20250308T120000
DTSTAMP:20260421T222810
CREATED:20240919T145500Z
LAST-MODIFIED:20240919T145500Z
UID:4346-1741424400-1741435200@www.semno.org
SUMMARY:2024-2025 Snow Country English Match Series - Howell
DESCRIPTION:2024-2025 Snow Country English Match Series
URL:https://www.semno.org/event/2024-2025-snow-country-english-match-series-howell-6/
LOCATION:Howell Gun Club\, 3210 Jewel Road\, Howell\, MI\, United States
CATEGORIES:Indoor Smallbore Prone
ATTACH;FMTTYPE=image/jpeg:https://www.semno.org/wp-content/uploads/2021/04/SG.jpeg
ORGANIZER;CN="Ed Gostomski":MAILTO:gostomski@chartermi.net
END:VEVENT
BEGIN:VEVENT
DTSTART;TZID=America/Detroit:20250308T080000
DTEND;TZID=America/Detroit:20250308T120000
DTSTAMP:20260421T222810
CREATED:20240919T145322Z
LAST-MODIFIED:20240919T145322Z
UID:4344-1741420800-1741435200@www.semno.org
SUMMARY:2024-2025 Snow Country English Match Series - Monroe
DESCRIPTION:2024-2025 Snow Country English Match Series
URL:https://www.semno.org/event/2024-2025-snow-country-english-match-series-monroe-7/
LOCATION:Monroe Rifle and Pistol Club\, 1220 Yensch Road\, Dundee\, MI\, 48131\, United States
CATEGORIES:Indoor Smallbore Prone
ATTACH;FMTTYPE=image/jpeg:https://www.semno.org/wp-content/uploads/2024/04/SteveJones-scaled.jpg
ORGANIZER;CN="Jamie Root":MAILTO:jaroot@jarootfarms.com
END:VEVENT
BEGIN:VEVENT
DTSTART;TZID=America/Detroit:20250306T170000
DTEND;TZID=America/Detroit:20250306T200000
DTSTAMP:20260421T222810
CREATED:20240919T145158Z
LAST-MODIFIED:20240919T145158Z
UID:4342-1741280400-1741291200@www.semno.org
SUMMARY:2024-2025 Snow Country English Match Series - Grand Rapids
DESCRIPTION:2024-2025 Snow Country English Match Series
URL:https://www.semno.org/event/2024-2025-snow-country-english-match-series-grand-rapids-4/
LOCATION:Grand Rapids Rifle and Pistol Club\, 1331 Nagel AVE SW\, Wyoming\, MI\, 49509\, United States
CATEGORIES:Indoor Smallbore Prone
ATTACH;FMTTYPE=image/jpeg:https://www.semno.org/wp-content/uploads/2021/04/TS.jpeg
ORGANIZER;CN="Cameron Zwart":MAILTO:zwartcam@gvsu.edu
END:VEVENT
BEGIN:VEVENT
DTSTART;TZID=America/Detroit:20250215T090000
DTEND;TZID=America/Detroit:20250215T130000
DTSTAMP:20260421T222810
CREATED:20241109T014438Z
LAST-MODIFIED:20241109T014447Z
UID:4401-1739610000-1739624400@www.semno.org
SUMMARY:2024-2025 Snow Country - BWSA
DESCRIPTION:2024-2025 Snow Country English Match Series
URL:https://www.semno.org/event/2024-2025-snow-country-bwsa-4/
LOCATION:BWSA\, 4866 Ravenswood Road\, Kimball\, MI\, 48074\, United States
CATEGORIES:Indoor Smallbore Prone
ORGANIZER;CN="Matt Wieczorek":MAILTO:mwieczorek223@gmail.com
END:VEVENT
BEGIN:VEVENT
DTSTART;TZID=America/Detroit:20250215T090000
DTEND;TZID=America/Detroit:20250215T120000
DTSTAMP:20260421T222810
CREATED:20240928T210831Z
LAST-MODIFIED:20240928T210831Z
UID:4364-1739610000-1739620800@www.semno.org
SUMMARY:2024-2025 Snow Country English Match Series - Muskegon
DESCRIPTION:2024-2025 Snow Country English Match Series
URL:https://www.semno.org/event/2024-2025-snow-country-english-match-series-muskegon-4/
LOCATION:Muskegon Pistol and Rifle Club\, 5345 S. Quarterline Road\, Muskegon\, MI\, 49444\, United States
CATEGORIES:Indoor Smallbore Prone
ATTACH;FMTTYPE=image/jpeg:https://www.semno.org/wp-content/uploads/2024/04/Wayne-Haase-scaled.jpg
ORGANIZER;CN="Steve Fenske":MAILTO:steve.fenske@gmail.com
END:VEVENT
BEGIN:VEVENT
DTSTART;TZID=America/Detroit:20250208T090000
DTEND;TZID=America/Detroit:20250208T120000
DTSTAMP:20260421T222810
CREATED:20240919T144927Z
LAST-MODIFIED:20240919T144927Z
UID:4340-1739005200-1739016000@www.semno.org
SUMMARY:2024-2025 Snow Country English Match Series - Howell
DESCRIPTION:2024-2025 Snow Country English Match Series
URL:https://www.semno.org/event/2024-2025-snow-country-english-match-series-howell-5/
LOCATION:Howell Gun Club\, 3210 Jewel Road\, Howell\, MI\, United States
CATEGORIES:Indoor Smallbore Prone
ATTACH;FMTTYPE=image/jpeg:https://www.semno.org/wp-content/uploads/2024/04/Gary-Duda-scaled.jpg
ORGANIZER;CN="Ed Gostomski":MAILTO:gostomski@chartermi.net
END:VEVENT
BEGIN:VEVENT
DTSTART;TZID=America/Detroit:20250208T090000
DTEND;TZID=America/Detroit:20250208T120000
DTSTAMP:20260421T222810
CREATED:20240919T144726Z
LAST-MODIFIED:20240919T145002Z
UID:4338-1739005200-1739016000@www.semno.org
SUMMARY:2024-2025 Snow Country English Match Series - Monroe
DESCRIPTION:2024-2025 Snow Country English Match Series
URL:https://www.semno.org/event/2024-2025-snow-country-english-match-series-monroe-6/
LOCATION:Howell Gun Club\, 3210 Jewel Road\, Howell\, MI\, United States
CATEGORIES:Indoor Smallbore Prone
ATTACH;FMTTYPE=image/jpeg:https://www.semno.org/wp-content/uploads/2021/04/DA.jpeg
ORGANIZER;CN="Ed Gostomski":MAILTO:gostomski@chartermi.net
END:VEVENT
BEGIN:VEVENT
DTSTART;TZID=America/Detroit:20250206T170000
DTEND;TZID=America/Detroit:20250206T200000
DTSTAMP:20260421T222810
CREATED:20240919T144531Z
LAST-MODIFIED:20240920T150255Z
UID:4336-1738861200-1738872000@www.semno.org
SUMMARY:2024-2025 Snow Country English Match Series - Grand Rapids
DESCRIPTION:2024-2025 Snow Country English Match Series
URL:https://www.semno.org/event/2024-2025-snow-country-english-match-series-grand-rapids-3/
LOCATION:Grand Rapids Rifle and Pistol Club\, 1331 Nagel AVE SW\, Wyoming\, MI\, 49509\, United States
CATEGORIES:Indoor Smallbore Prone
ATTACH;FMTTYPE=image/jpeg:https://www.semno.org/wp-content/uploads/2024/04/Tim-Sarchett-scaled.jpg
ORGANIZER;CN="Cameron Zwart":MAILTO:zwartcam@gvsu.edu
END:VEVENT
BEGIN:VEVENT
DTSTART;TZID=America/Detroit:20250125T090000
DTEND;TZID=America/Detroit:20250125T120000
DTSTAMP:20260421T222810
CREATED:20240919T144351Z
LAST-MODIFIED:20240919T144351Z
UID:4334-1737795600-1737806400@www.semno.org
SUMMARY:2024-2025 Snow Country English Match Series - Howell
DESCRIPTION:2024-2025 Snow Country English Match Series
URL:https://www.semno.org/event/2024-2025-snow-country-english-match-series-howell-4/
LOCATION:Howell Gun Club\, 3210 Jewel Road\, Howell\, MI\, United States
CATEGORIES:Indoor Smallbore Prone
ATTACH;FMTTYPE=image/jpeg:https://www.semno.org/wp-content/uploads/2023/04/20230415_103012-scaled.jpg
ORGANIZER;CN="Ed Gostomski":MAILTO:gostomski@chartermi.net
END:VEVENT
BEGIN:VEVENT
DTSTART;TZID=America/Detroit:20250125T080000
DTEND;TZID=America/Detroit:20250125T120000
DTSTAMP:20260421T222810
CREATED:20240919T144202Z
LAST-MODIFIED:20240919T144202Z
UID:4332-1737792000-1737806400@www.semno.org
SUMMARY:2024-2025 Snow Country English Match Series - Monroe
DESCRIPTION:2024-2025 Snow Country English Match Series
URL:https://www.semno.org/event/2024-2025-snow-country-english-match-series-monroe-5/
LOCATION:Monroe Rifle and Pistol Club\, 1220 Yensch Road\, Dundee\, MI\, 48131\, United States
CATEGORIES:Indoor Smallbore Prone
ATTACH;FMTTYPE=image/jpeg:https://www.semno.org/wp-content/uploads/2024/04/Steve-Jones-scaled.jpg
ORGANIZER;CN="Jamie Root":MAILTO:jaroot@jarootfarms.com
END:VEVENT
BEGIN:VEVENT
DTSTART;TZID=America/Detroit:20250118T090000
DTEND;TZID=America/Detroit:20250118T130000
DTSTAMP:20260421T222810
CREATED:20241109T014311Z
LAST-MODIFIED:20241109T014311Z
UID:4399-1737190800-1737205200@www.semno.org
SUMMARY:2024-2025 Snow Country - BWSA
DESCRIPTION:2024-2025 Snow Country English Match Series
URL:https://www.semno.org/event/2024-2025-snow-country-bwsa-3/
LOCATION:BWSA\, 4866 Ravenswood Road\, Kimball\, MI\, 48074\, United States
CATEGORIES:Indoor Smallbore Prone
ORGANIZER;CN="Matt Wieczorek":MAILTO:mwieczorek223@gmail.com
END:VEVENT
BEGIN:VEVENT
DTSTART;TZID=America/Detroit:20250118T090000
DTEND;TZID=America/Detroit:20250118T120000
DTSTAMP:20260421T222810
CREATED:20240928T210657Z
LAST-MODIFIED:20240928T210657Z
UID:4362-1737190800-1737201600@www.semno.org
SUMMARY:2024-2025 Snow Country English Match Series - Muskegon
DESCRIPTION:2024-2025 Snow Country English Match Series
URL:https://www.semno.org/event/2024-2025-snow-country-english-match-series-muskegon-3/
LOCATION:Muskegon Pistol and Rifle Club\, 5345 S. Quarterline Road\, Muskegon\, MI\, 49444\, United States
CATEGORIES:Indoor Smallbore Prone
ATTACH;FMTTYPE=image/jpeg:https://www.semno.org/wp-content/uploads/2024/04/Eric-Moe-scaled.jpg
ORGANIZER;CN="Steve Fenske":MAILTO:steve.fenske@gmail.com
END:VEVENT
BEGIN:VEVENT
DTSTART;TZID=America/Detroit:20250111T090000
DTEND;TZID=America/Detroit:20250111T120000
DTSTAMP:20260421T222810
CREATED:20240919T144028Z
LAST-MODIFIED:20240919T144028Z
UID:4330-1736586000-1736596800@www.semno.org
SUMMARY:2024-2025 Snow Country English Match Series - Howell
DESCRIPTION:2024-2025 Snow Country English Match Series
URL:https://www.semno.org/event/2024-2025-snow-country-english-match-series-howell-3/
LOCATION:Howell Gun Club\, 3210 Jewel Road\, Howell\, MI\, United States
CATEGORIES:Indoor Smallbore Prone
ATTACH;FMTTYPE=image/jpeg:https://www.semno.org/wp-content/uploads/2024/04/Dave-Strycharz-scaled.jpg
ORGANIZER;CN="Ed Gostomski":MAILTO:gostomski@chartermi.net
END:VEVENT
BEGIN:VEVENT
DTSTART;TZID=America/Detroit:20250111T080000
DTEND;TZID=America/Detroit:20250111T120000
DTSTAMP:20260421T222810
CREATED:20240919T143856Z
LAST-MODIFIED:20240919T143856Z
UID:4328-1736582400-1736596800@www.semno.org
SUMMARY:2024-2025 Snow Country English Match Series - Monroe
DESCRIPTION:2024-2025 Snow Country English Match Series
URL:https://www.semno.org/event/2024-2025-snow-country-english-match-series-monroe-4/
LOCATION:Monroe Rifle and Pistol Club\, 1220 Yensch Road\, Dundee\, MI\, 48131\, United States
CATEGORIES:Indoor Smallbore Prone
ATTACH;FMTTYPE=image/jpeg:https://www.semno.org/wp-content/uploads/2021/04/Bret.jpeg
ORGANIZER;CN="Jamie Root":MAILTO:jaroot@jarootfarms.com
END:VEVENT
BEGIN:VEVENT
DTSTART;TZID=America/Detroit:20250102T170000
DTEND;TZID=America/Detroit:20250102T200000
DTSTAMP:20260421T222810
CREATED:20240919T143654Z
LAST-MODIFIED:20240919T143654Z
UID:4326-1735837200-1735848000@www.semno.org
SUMMARY:2024-2025 Snow Country English Match Series - Grand Rapids
DESCRIPTION:2024-2025 Snow Country English Match Series
URL:https://www.semno.org/event/2024-2025-snow-country-english-match-series-grand-rapids-2/
LOCATION:Grand Rapids Rifle and Pistol Club\, 1331 Nagel AVE SW\, Wyoming\, MI\, 49509\, United States
CATEGORIES:Indoor Smallbore Prone
ATTACH;FMTTYPE=image/jpeg:https://www.semno.org/wp-content/uploads/2022/04/IMG_20220414_201258953-3-scaled.jpg
ORGANIZER;CN="Cameron Zwart":MAILTO:zwartcam@gvsu.edu
END:VEVENT
BEGIN:VEVENT
DTSTART;TZID=America/Detroit:20241221T090000
DTEND;TZID=America/Detroit:20241221T120000
DTSTAMP:20260421T222810
CREATED:20240928T210524Z
LAST-MODIFIED:20240928T210524Z
UID:4360-1734771600-1734782400@www.semno.org
SUMMARY:2024-2025 Snow Country English Match Series - Muskegon
DESCRIPTION:2024-2025 Snow Country English Match Series
URL:https://www.semno.org/event/2024-2025-snow-country-english-match-series-muskegon-2/
LOCATION:Muskegon Pistol and Rifle Club\, 5345 S. Quarterline Road\, Muskegon\, MI\, 49444\, United States
CATEGORIES:Indoor Smallbore Prone
ATTACH;FMTTYPE=image/jpeg:https://www.semno.org/wp-content/uploads/2024/04/Wayne-Haase-scaled.jpg
ORGANIZER;CN="Steve Fenske":MAILTO:steve.fenske@gmail.com
END:VEVENT
BEGIN:VEVENT
DTSTART;TZID=America/Detroit:20241221T080000
DTEND;TZID=America/Detroit:20241221T120000
DTSTAMP:20260421T222810
CREATED:20240911T130644Z
LAST-MODIFIED:20240911T130808Z
UID:4321-1734768000-1734782400@www.semno.org
SUMMARY:2024-2025 Snow Country English Match Series - Monroe
DESCRIPTION:2024-2025 Snow Country English Match Series
URL:https://www.semno.org/event/2024-2025-snow-country-english-match-series-monroe-3/
LOCATION:Monroe Rifle and Pistol Club\, 1220 Yensch Road\, Dundee\, MI\, 48131\, United States
CATEGORIES:Indoor Smallbore Prone
ATTACH;FMTTYPE=image/jpeg:https://www.semno.org/wp-content/uploads/2021/04/DA.jpeg
ORGANIZER;CN="Jamie Root":MAILTO:jaroot@jarootfarms.com
END:VEVENT
BEGIN:VEVENT
DTSTART;TZID=America/Detroit:20241214T090000
DTEND;TZID=America/Detroit:20241214T130000
DTSTAMP:20260421T222810
CREATED:20241109T014202Z
LAST-MODIFIED:20241109T014202Z
UID:4397-1734166800-1734181200@www.semno.org
SUMMARY:2024-2025 Snow Country - BWSA
DESCRIPTION:2024-2025 Snow Country English Match Series
URL:https://www.semno.org/event/2024-2025-snow-country-bwsa-2/
LOCATION:BWSA\, 4866 Ravenswood Road\, Kimball\, MI\, 48074\, United States
CATEGORIES:Indoor Smallbore Prone
ORGANIZER;CN="Matt Wieczorek":MAILTO:mwieczorek223@gmail.com
END:VEVENT
BEGIN:VEVENT
DTSTART;TZID=America/Detroit:20241214T080000
DTEND;TZID=America/Detroit:20241214T120000
DTSTAMP:20260421T222810
CREATED:20240911T130455Z
LAST-MODIFIED:20240911T130455Z
UID:4319-1734163200-1734177600@www.semno.org
SUMMARY:2024-2025 Snow Country English Match Series - Monroe
DESCRIPTION:2024-2025 Snow Country English Match Series
URL:https://www.semno.org/event/2024-2025-snow-country-english-match-series-monroe-2/
LOCATION:Monroe Rifle and Pistol Club\, 1220 Yensch Road\, Dundee\, MI\, 48131\, United States
CATEGORIES:Indoor Smallbore Prone
ATTACH;FMTTYPE=image/jpeg:https://www.semno.org/wp-content/uploads/2024/04/Bret-Solomon-scaled.jpg
ORGANIZER;CN="Jamie Root":MAILTO:jaroot@jarootfarms.com
END:VEVENT
BEGIN:VEVENT
DTSTART;TZID=America/Detroit:20241207T090000
DTEND;TZID=America/Detroit:20241207T120000
DTSTAMP:20260421T222810
CREATED:20240911T130233Z
LAST-MODIFIED:20240911T130233Z
UID:4317-1733562000-1733572800@www.semno.org
SUMMARY:2024-2025 Snow Country English Match Series - Howell
DESCRIPTION:2024-2025 Snow Country English Match Series
URL:https://www.semno.org/event/2024-2025-snow-country-english-match-series-howell-2/
LOCATION:Howell Gun Club\, 3210 Jewel Road\, Howell\, MI\, United States
CATEGORIES:Indoor Smallbore Prone
ATTACH;FMTTYPE=image/jpeg:https://www.semno.org/wp-content/uploads/2024/04/Dave-Strycharz-scaled.jpg
ORGANIZER;CN="Ed Gostomski":MAILTO:gostomski@chartermi.net
END:VEVENT
BEGIN:VEVENT
DTSTART;TZID=America/Detroit:20241205T170000
DTEND;TZID=America/Detroit:20241205T200000
DTSTAMP:20260421T222810
CREATED:20240911T130008Z
LAST-MODIFIED:20240911T131038Z
UID:4314-1733418000-1733428800@www.semno.org
SUMMARY:2024-2025 Snow Country English Match Series - Grand Rapids
DESCRIPTION:2024-2025 Snow Country English Match Series
URL:https://www.semno.org/event/2024-2025-snow-country-english-match-series-grand-rapid/
LOCATION:Grand Rapids Rifle and Pistol Club\, 1331 Nagel AVE SW\, Wyoming\, MI\, 49509\, United States
CATEGORIES:Indoor Smallbore Prone
ATTACH;FMTTYPE=image/jpeg:https://www.semno.org/wp-content/uploads/2024/04/Cam-Zwart-scaled.jpg
ORGANIZER;CN="Cameron Zwart":MAILTO:zwartcam@gvsu.edu
END:VEVENT
BEGIN:VEVENT
DTSTART;TZID=America/Detroit:20241116T090000
DTEND;TZID=America/Detroit:20241116T120000
DTSTAMP:20260421T222810
CREATED:20240928T210143Z
LAST-MODIFIED:20240928T210302Z
UID:4357-1731747600-1731758400@www.semno.org
SUMMARY:2024-2025 Snow Country English Match Series - Muskegon
DESCRIPTION:2024-2025 Snow Country English Match Series
URL:https://www.semno.org/event/2024-2025-snow-country-english-match-series-muskegon/
LOCATION:Muskegon Pistol and Rifle Club\, 5345 S. Quarterline Road\, Muskegon\, MI\, 49444\, United States
CATEGORIES:Indoor Smallbore Prone
ATTACH;FMTTYPE=image/jpeg:https://www.semno.org/wp-content/uploads/2024/04/Eric-Moe-scaled.jpg
ORGANIZER;CN="Steve Fenske":MAILTO:steve.fenske@gmail.com
END:VEVENT
BEGIN:VEVENT
DTSTART;TZID=America/Detroit:20241116T090000
DTEND;TZID=America/Detroit:20241116T120000
DTSTAMP:20260421T222810
CREATED:20240910T183630Z
LAST-MODIFIED:20240910T183907Z
UID:4307-1731747600-1731758400@www.semno.org
SUMMARY:2024-2025 Snow Country English Match Series - Howell
DESCRIPTION:2024-2025 Snow Country English Match Series
URL:https://www.semno.org/event/2024-2025-snow-country-english-match-series-howell/
LOCATION:Howell Gun Club\, 3210 Jewel Road\, Howell\, MI\, United States
CATEGORIES:Indoor Smallbore Prone
ATTACH;FMTTYPE=image/jpeg:https://www.semno.org/wp-content/uploads/2024/04/Ed-Gostomski-scaled.jpg
ORGANIZER;CN="Ed Gostomski":MAILTO:gostomski@chartermi.net
END:VEVENT
END:VCALENDAR