BEGIN:VCALENDAR
VERSION:2.0
PRODID:-//SEMNO High Masters Shooting Team - ECPv6.15.20//NONSGML v1.0//EN
CALSCALE:GREGORIAN
METHOD:PUBLISH
X-ORIGINAL-URL:https://www.semno.org
X-WR-CALDESC:Events for SEMNO High Masters Shooting Team
REFRESH-INTERVAL;VALUE=DURATION:PT1H
X-Robots-Tag:noindex
X-PUBLISHED-TTL:PT1H
BEGIN:VTIMEZONE
TZID:America/Detroit
BEGIN:DAYLIGHT
TZOFFSETFROM:-0500
TZOFFSETTO:-0400
TZNAME:EDT
DTSTART:20250309T070000
END:DAYLIGHT
BEGIN:STANDARD
TZOFFSETFROM:-0400
TZOFFSETTO:-0500
TZNAME:EST
DTSTART:20251102T060000
END:STANDARD
BEGIN:DAYLIGHT
TZOFFSETFROM:-0500
TZOFFSETTO:-0400
TZNAME:EDT
DTSTART:20260308T070000
END:DAYLIGHT
BEGIN:STANDARD
TZOFFSETFROM:-0400
TZOFFSETTO:-0500
TZNAME:EST
DTSTART:20261101T060000
END:STANDARD
BEGIN:DAYLIGHT
TZOFFSETFROM:-0500
TZOFFSETTO:-0400
TZNAME:EDT
DTSTART:20270314T070000
END:DAYLIGHT
BEGIN:STANDARD
TZOFFSETFROM:-0400
TZOFFSETTO:-0500
TZNAME:EST
DTSTART:20271107T060000
END:STANDARD
END:VTIMEZONE
BEGIN:VEVENT
DTSTART;TZID=America/Detroit:20260305T170000
DTEND;TZID=America/Detroit:20260305T200000
DTSTAMP:20260421T211951
CREATED:20260223T183958Z
LAST-MODIFIED:20260223T184035Z
UID:5015-1772730000-1772740800@www.semno.org
SUMMARY:2025-2026 Snow Country - Grand Rapids
DESCRIPTION:2025-2026 Snow Country English Match Series
URL:https://www.semno.org/event/2025-2026-snow-country-grand-rapid/
LOCATION:Grand Rapids Rifle and Pistol Club\, 1331 Nagel AVE SW\, Wyoming\, MI\, 49509\, United States
CATEGORIES:Indoor Smallbore Prone
ATTACH;FMTTYPE=image/jpeg:https://www.semno.org/wp-content/uploads/2025/04/Tim-Sarchett.jpeg
ORGANIZER;CN="Cameron Zwart":MAILTO:zwartcam@gvsu.edu
END:VEVENT
END:VCALENDAR