BEGIN:VCALENDAR
VERSION:2.0
PRODID:-//SEMNO High Masters Shooting Team - ECPv6.15.20//NONSGML v1.0//EN
CALSCALE:GREGORIAN
METHOD:PUBLISH
X-WR-CALNAME:SEMNO High Masters Shooting Team
X-ORIGINAL-URL:https://www.semno.org
X-WR-CALDESC:Events for SEMNO High Masters Shooting Team
REFRESH-INTERVAL;VALUE=DURATION:PT1H
X-Robots-Tag:noindex
X-PUBLISHED-TTL:PT1H
BEGIN:VTIMEZONE
TZID:America/Detroit
BEGIN:DAYLIGHT
TZOFFSETFROM:-0500
TZOFFSETTO:-0400
TZNAME:EDT
DTSTART:20250309T070000
END:DAYLIGHT
BEGIN:STANDARD
TZOFFSETFROM:-0400
TZOFFSETTO:-0500
TZNAME:EST
DTSTART:20251102T060000
END:STANDARD
BEGIN:DAYLIGHT
TZOFFSETFROM:-0500
TZOFFSETTO:-0400
TZNAME:EDT
DTSTART:20260308T070000
END:DAYLIGHT
BEGIN:STANDARD
TZOFFSETFROM:-0400
TZOFFSETTO:-0500
TZNAME:EST
DTSTART:20261101T060000
END:STANDARD
BEGIN:DAYLIGHT
TZOFFSETFROM:-0500
TZOFFSETTO:-0400
TZNAME:EDT
DTSTART:20270314T070000
END:DAYLIGHT
BEGIN:STANDARD
TZOFFSETFROM:-0400
TZOFFSETTO:-0500
TZNAME:EST
DTSTART:20271107T060000
END:STANDARD
END:VTIMEZONE
BEGIN:VEVENT
DTSTART;TZID=America/Detroit:20260103T090000
DTEND;TZID=America/Detroit:20260103T130000
DTSTAMP:20260421T234507
CREATED:20251101T175325Z
LAST-MODIFIED:20251101T175325Z
UID:4845-1767430800-1767445200@www.semno.org
SUMMARY:2025-2026 Snow Country English Match Series - Muskegon
DESCRIPTION:2025-2026 Snow Country English Match Series
URL:https://www.semno.org/event/2025-2026-snow-country-english-match-series-muskegon-3/
LOCATION:Muskegon Pistol and Rifle Club\, 5345 S. Quarterline Road\, Muskegon\, MI\, 49444\, United States
CATEGORIES:Indoor Smallbore Prone
ATTACH;FMTTYPE=image/jpeg:https://www.semno.org/wp-content/uploads/2025/04/Eric-Moe-scaled.jpeg
ORGANIZER;CN="Steve Fenske":MAILTO:steve.fenske@gmail.com
END:VEVENT
END:VCALENDAR