BEGIN:VCALENDAR
VERSION:2.0
PRODID:-//SEMNO High Masters Shooting Team - ECPv6.15.20//NONSGML v1.0//EN
CALSCALE:GREGORIAN
METHOD:PUBLISH
X-ORIGINAL-URL:https://www.semno.org
X-WR-CALDESC:Events for SEMNO High Masters Shooting Team
REFRESH-INTERVAL;VALUE=DURATION:PT1H
X-Robots-Tag:noindex
X-PUBLISHED-TTL:PT1H
BEGIN:VTIMEZONE
TZID:America/Detroit
BEGIN:DAYLIGHT
TZOFFSETFROM:-0500
TZOFFSETTO:-0400
TZNAME:EDT
DTSTART:20250309T070000
END:DAYLIGHT
BEGIN:STANDARD
TZOFFSETFROM:-0400
TZOFFSETTO:-0500
TZNAME:EST
DTSTART:20251102T060000
END:STANDARD
BEGIN:DAYLIGHT
TZOFFSETFROM:-0500
TZOFFSETTO:-0400
TZNAME:EDT
DTSTART:20260308T070000
END:DAYLIGHT
BEGIN:STANDARD
TZOFFSETFROM:-0400
TZOFFSETTO:-0500
TZNAME:EST
DTSTART:20261101T060000
END:STANDARD
BEGIN:DAYLIGHT
TZOFFSETFROM:-0500
TZOFFSETTO:-0400
TZNAME:EDT
DTSTART:20270314T070000
END:DAYLIGHT
BEGIN:STANDARD
TZOFFSETFROM:-0400
TZOFFSETTO:-0500
TZNAME:EST
DTSTART:20271107T060000
END:STANDARD
END:VTIMEZONE
BEGIN:VEVENT
DTSTART;TZID=America/Detroit:20260205T173000
DTEND;TZID=America/Detroit:20260205T200000
DTSTAMP:20260421T222725
CREATED:20251101T182917Z
LAST-MODIFIED:20251101T182917Z
UID:4861-1770312600-1770321600@www.semno.org
SUMMARY:2025-2026 Snow Country English Match Series - Grand Rapids
DESCRIPTION:2025-2026 Snow Country English Match Series
URL:https://www.semno.org/event/2025-2026-snow-country-english-match-series-grand-rapids-5/
LOCATION:Grand Rapids Rifle and Pistol Club\, 1331 Nagel AVE SW\, Wyoming\, MI\, 49509\, United States
CATEGORIES:Indoor Smallbore Prone
ATTACH;FMTTYPE=image/jpeg:https://www.semno.org/wp-content/uploads/2024/03/Joshua-Haan-Collegiate-Junior-Winner-scaled.jpeg
ORGANIZER;CN="Cameron Zwart":MAILTO:zwartcam@gvsu.edu
END:VEVENT
BEGIN:VEVENT
DTSTART;TZID=America/Detroit:20260207T080000
DTEND;TZID=America/Detroit:20260207T130000
DTSTAMP:20260421T222725
CREATED:20251101T183134Z
LAST-MODIFIED:20251101T183134Z
UID:4864-1770451200-1770469200@www.semno.org
SUMMARY:2025-2026 Snow Country English Match Series - Howell
DESCRIPTION:2025-2026 Snow Country English Match Series
URL:https://www.semno.org/event/2025-2026-snow-country-english-match-series-howell-6/
LOCATION:Howell Gun Club\, 3210 Jewel Road\, Howell\, MI\, United States
CATEGORIES:Indoor Smallbore Prone
ATTACH;FMTTYPE=image/jpeg:https://www.semno.org/wp-content/uploads/2023/04/20230415_103012-scaled.jpg
ORGANIZER;CN="Ed Gostomski":MAILTO:gostomski@chartermi.net
END:VEVENT
BEGIN:VEVENT
DTSTART;TZID=America/Detroit:20260207T090000
DTEND;TZID=America/Detroit:20260207T130000
DTSTAMP:20260421T222725
CREATED:20251101T183305Z
LAST-MODIFIED:20251101T183305Z
UID:4866-1770454800-1770469200@www.semno.org
SUMMARY:2025-2026 Snow Country English Match Series - Muskegon
DESCRIPTION:2025-2026 Snow Country English Match Series
URL:https://www.semno.org/event/2025-2026-snow-country-english-match-series-muskegon-5/
LOCATION:Muskegon Pistol and Rifle Club\, 5345 S. Quarterline Road\, Muskegon\, MI\, 49444\, United States
CATEGORIES:Indoor Smallbore Prone
ATTACH;FMTTYPE=image/jpeg:https://www.semno.org/wp-content/uploads/2025/04/Wayne-Haase.jpeg
ORGANIZER;CN="Steve Fenske":MAILTO:steve.fenske@gmail.com
END:VEVENT
BEGIN:VEVENT
DTSTART;TZID=America/Detroit:20260214T080000
DTEND;TZID=America/Detroit:20260214T130000
DTSTAMP:20260421T222725
CREATED:20251101T183507Z
LAST-MODIFIED:20251101T183539Z
UID:4868-1771056000-1771074000@www.semno.org
SUMMARY:2025-2026 Snow Country English Match Series - Monroe "Valentine's Day Massacre"
DESCRIPTION:2025-2026 Snow Country English Match Series
URL:https://www.semno.org/event/2025-2026-snow-country-english-match-series-monroe-6/
LOCATION:Monroe Rifle and Pistol Club\, 1220 Yensch Road\, Dundee\, MI\, 48131\, United States
CATEGORIES:Indoor Smallbore Prone
ATTACH;FMTTYPE=image/jpeg:https://www.semno.org/wp-content/uploads/2024/04/Dan-Altman-scaled.jpg
ORGANIZER;CN="Jamie Root":MAILTO:jaroot@jarootfarms.com
END:VEVENT
BEGIN:VEVENT
DTSTART;TZID=America/Detroit:20260221T090000
DTEND;TZID=America/Detroit:20260221T130000
DTSTAMP:20260421T222725
CREATED:20251101T183733Z
LAST-MODIFIED:20251101T183733Z
UID:4872-1771664400-1771678800@www.semno.org
SUMMARY:2025-2026 Snow Country English Match Series - BWSA
DESCRIPTION:2025-2026 Snow Country English Match Series
URL:https://www.semno.org/event/2025-2026-snow-country-english-match-series-bwsa-6/
LOCATION:BWSA\, 4866 Ravenswood Road\, Kimball\, MI\, 48074\, United States
CATEGORIES:Indoor Smallbore Prone
ATTACH;FMTTYPE=image/jpeg:https://www.semno.org/wp-content/uploads/2025/02/Trevor-Gersch.jpeg
ORGANIZER;CN="Matt Wieczorek":MAILTO:mwieczorek223@gmail.com
END:VEVENT
BEGIN:VEVENT
DTSTART;TZID=America/Detroit:20260221T090000
DTEND;TZID=America/Detroit:20260221T130000
DTSTAMP:20260421T222725
CREATED:20251101T183930Z
LAST-MODIFIED:20251101T183930Z
UID:4874-1771664400-1771678800@www.semno.org
SUMMARY:2025-2026 Snow Country English Match Series - Muskegon
DESCRIPTION:2025-2026 Snow Country English Match Series
URL:https://www.semno.org/event/2025-2026-snow-country-english-match-series-muskegon-6/
LOCATION:Muskegon Pistol and Rifle Club\, 5345 S. Quarterline Road\, Muskegon\, MI\, 49444\, United States
CATEGORIES:Indoor Smallbore Prone
ATTACH;FMTTYPE=image/jpeg:https://www.semno.org/wp-content/uploads/2024/04/Eric-Moe-scaled.jpg
ORGANIZER;CN="Steve Fenske":MAILTO:steve.fenske@gmail.com
END:VEVENT
BEGIN:VEVENT
DTSTART;TZID=America/Detroit:20260228T080000
DTEND;TZID=America/Detroit:20260228T130000
DTSTAMP:20260421T222725
CREATED:20251101T184103Z
LAST-MODIFIED:20251101T184103Z
UID:4876-1772265600-1772283600@www.semno.org
SUMMARY:2025-2026 Snow Country English Match Series - Monroe
DESCRIPTION:2025-2026 Snow Country English Match Series
URL:https://www.semno.org/event/2025-2026-snow-country-english-match-series-monroe-7/
LOCATION:Monroe Rifle and Pistol Club\, 1220 Yensch Road\, Dundee\, MI\, 48131\, United States
CATEGORIES:Indoor Smallbore Prone
ATTACH;FMTTYPE=image/jpeg:https://www.semno.org/wp-content/uploads/2024/04/Bret-Solomon-scaled.jpg
ORGANIZER;CN="Jamie Root":MAILTO:jaroot@jarootfarms.com
END:VEVENT
END:VCALENDAR